Workbook

Sheet 第一篇总体路线
B1: 本 册 目 录
M2: 1000
B3: 序号 | C3: 图表名称 | D3: 图号 | E3: 页码 | F3: 备注 | H3: 序号 | I3: 图表名称 | J3: 图号 | K3: 页码 | L3: 备注 | N3: 页码
C4: 第六分册
C5: 第一篇 总体设计
B6: 1 | C6: 效果图 | D6: T1-1 | E6: =M2 -> 1000 | N6: 7
B7: 2 | C7: 项目地理位置图 | D7: T1-2 | E7: =E6+N6 -> 1007 | N7: 1
B8: 3 | C8: 路线平、纵面缩图 | D8: T1-3 | E8: =E7+N7 -> 1008 | N8: 1
B9: 4 | C9: 主要技术经济指标表 | D9: T1-4 | E9: =E8+N8 -> 1009 | N9: 4
B10: 5 | C10: 路线平纵面图 | D10: T1-5 | E10: =E9+N9 -> 1013 | N10: 229
B11: 6 | C11: 公路平面总体设计图 | D11: T1-6 | E11: =E10+N10 -> 1242 | N11: 228

Sheet 第二篇路线
B1: 本 册 目 录
B3: 序号 | C3: 图表名称 | D3: 图号 | E3: 页码 | F3: 备注 | H3: 序号 | I3: 图表名称 | J3: 图号 | K3: 页码 | L3: 备注
C4: 第七分册
C5: 第二篇 路线设计 | N5: 228
B6: 1 | C6: 路线平面图 | D6: T2-1 | E6: =N5+第一篇总体路线!E11 -> 1470 | N6: 227
B7: 2 | C7: 路线纵断面图 | D7: T2-2 | E7: =E6+N6 -> 1697 | N7: 227
B8: 3
B9: 4
B10: 5
B11: 6
B12: 7
B13: 8
B14: 9
B15: 10
B16: 11
B17: 12
B18: 13
B19: 14
... B30: 25

Sheet 第二篇路线 (2)
B1: 本 册 目 录
B3: 序号 | C3: 图表名称 | D3: 图号 | E3: 页码 | F3: 备注 | H3: 序号 | I3: 图表名称 | J3: 图号 | K3: 页码 | L3: 备注
C4: 第八分册
C5: 第二篇 路线设计 | N5: 227
B6: 1 | C6: 直线、曲线及转角表 | D6: T2-3 | E6: =N5+第二篇路线!E7 -> 1924 | N6: 70
B7: 2 | C7: 纵坡、竖曲线表 | D7: T2-4 | E7: =E6+N6 -> 1994 | N7: 38
B8: 3 | C8: 公路用地表 | D8: T2-5 | E8: =E7+N7 -> 2032 | N8: 7
B9: 4 | C9: 公路用地图 | D9: T2-6 | E9: =E8+N8 -> 2039 | N9: 198
B10: 5 | C10: 赔偿树木及青苗数量表 | D10: T2-7 | E10: =E9+N9 -> 2237 | N10: 7
B11: 6 | C11: 拆迁建筑物表 | D11: T2-8 | E11: =E10+N10 -> 2244 | N11: 1
B12: 7 | C12: 拆迁电力电讯及其他管线设施表 | D12: T2-9 | E12: =E11+N11 -> 2245 | N12: 1
B13: 8 | C13: 路线逐桩坐标表 | D13: T2-10 | E13: =E12+N12 -> 2246 | N13: 77
B14: 9 | C14: 安全设施 | D14: T2-11
B15: (1) | C15: 区域路网交通标志布置图 | D15: T2-11-1 | E15: =E13+N13 -> 2323 | N15: 1
B16: (2) | C16: 安全设施工程数量汇总表 | D16: T2-11-2 | E16: =E15+N15 -> 2324 | N16: 14
B17: (3) | C17: 标志、标线平面布置图 | D17: T2-11-3 | E17: =E16+N16 -> 2338 | N17: 70

Sheet 第二篇路线 (3)
B1: 本 册 目 录
B3: 序号 | C3: 图表名称 | D3: 图号 | E3: 页码 | F3: 备注 | H3: 序号 | I3: 图表名称 | J3: 图号 | K3: 页码 | L3: 备注
C4: 第九分册
C5: 第二篇 路线设计
B6: 9 | C6: 安全设施 | D6: T2-11 | N6: 70
B7: (3) | C7: 标志、标线平面布置图 | D7: T2-11-3 | E7: =N6+'第二篇路线 (2)'!E17 -> 2408 | N7: 162
B8: (4) | C8: 标志设置一览表 | D8: T2-11-4 | E8: =E7+N7 -> 2570 | N8: 122
B9: (5) | C9: 标线设置一览表 | D9: T2-11-5 | E9: =E8+N8 -> 2692 | N9: 6
B10: (6) | C10: 立面标记设置一览表 | D10: T2-11-6 | E10: =E9+N9 -> 2698 | N10: 3
B11: (7) | C11: 突起路标（路钮）设置一览表 | D11: T2-11-7 | E11: =E10+N10 -> 2701 | N11: 3
B12: (8) | C12: 波形护栏设置一览表 | D12: T2-11-8 | E12: =E11+N11 -> 2704 | N12: 34
B13: (9) | C13: 混凝土护栏设置一览表 | D13: T2-11-9 | E13: =E12+N12 -> 2738 | N13: 2
B14: (10) | C14: 轮廓标设置一览表 | D14: T2-11-10 | E14: =E13+N13 -> 2740 | N14: 4
B15: (11) | C15: 反光镜设置一览表 | D15: T2-11-11 | E15: =E14+N14 -> 2744 | N15: 3
B16: (12) | C16: 反光环设置一览表 | D16: T2-11-12 | E16: =E15+N15 -> 2747 | N16: 2
B17: (13) | C17: 道口标柱设置一览表 | D17: T2-11-13 | E17: =E16+N16 -> 2749 | N17: 3
B18: (14) | C18: 标志版面图 | D18: T2-11-14 | E18: =E17+N17 -> 2752 | N18: 11
B19: (15) | C19: 单柱式标志结构图 | D19: T2-11-15 | E19: =E18+N18 -> 2763 | N19: 27
... B31: (27) | C31: 反光镜安装示意图 | D31: T2-11-27 | E31: =E30+N30 -> 2847 | N31: 1

Sheet 第三篇 路基路面
B1: 本 册 目 录
B3: 序号 | C3: 图表名称 | D3: 图号 | E3: 页码 | F3: 备注 | H3: 序号 | I3: 图表名称 | J3: 图号 | K3: 页码 | L3: 备注
C4: 第十分册
C5: 第三篇 路基、路面 | N5: 1
B6: 1 | C6: 路基标准横断面图 | D6: T3-1 | E6: ='第二篇路线 (3)'!E31+'第三篇 路基路面'!N5 -> 2848 | N6: 1
B7: 2 | C7: 路基设计表 | D7: T3-2 | E7: =N6+E6 -> 2849 | N7: 350

Sheet 第三篇 路基路面 (2)
B1: 本 册 目 录
B3: 序号 | C3: 图表名称 | D3: 图号 | E3: 页码 | F3: 备注 | H3: 序号 | I3: 图表名称 | J3: 图号 | K3: 页码 | L3: 备注
C4: 第十一分册
C5: 第三篇 路基、路面 | N5: 350
B6: 1 | C6: 路基设计表 | D6: T3-1 | E6: =N5+'第三篇 路基路面'!E7 -> 3199 | N6: 367

Sheet 第三篇 路基路面 (3)
B1: 本 册 目 录
B3: 序号 | C3: 图表名称 | D3: 图号 | E3: 页码 | F3: 备注 | H3: 序号 | I3: 图表名称 | J3: 图号 | K3: 页码 | L3: 备注
C4: 第十二分册
C5: 第三篇 路基、路面 | N5: 367
B6: 1 | C6: 路基横断面图设计图 | D6: T3-3 | E6: =N5+'第三篇 路基路面 (2)'!E6 -> 3566 | N6: 480

Sheet 第三篇 路基路面 (4)
B1: 本 册 目 录
B3: 序号 | C3: 图表名称 | D3: 图号 | E3: 页码 | F3: 备注 | H3: 序号 | I3: 图表名称 | J3: 图号 | K3: 页码 | L3: 备注
C4: 第十三分册
C5: 第三篇 路基、路面 | N5: 480
B6: 1 | C6: 路基横断面图设计图 | D6: T3-3 | E6: =N5+'第三篇 路基路面 (3)'!E6 -> 4046 | N6: 480

Sheet 第三篇 路基路面 (5)
B1: 本 册 目 录
B3: 序号 | C3: 图表名称 | D3: 图号 | E3: 页码 | F3: 备注 | H3: 序号 | I3: 图表名称 | J3: 图号 | K3: 页码 | L3: 备注
C4: 第十四分册
C5: 第三篇 路基、路面 | N5: 480
B6: 1 | C6: 路基横断面图设计图 | D6: T3-3 | E6: =N5+'第三篇 路基路面 (4)'!E6 -> 4526 | N6: 480

Sheet 第三篇 路基路面 (6)
B1: 本 册 目 录
B3: 序号 | C3: 图表名称 | D3: 图号 | E3: 页码 | F3: 备注 | H3: 序号 | I3: 图表名称 | J3: 图号 | K3: 页码 | L3: 备注
C4: 第十五分册
C5: 第三篇 路基、路面 | N5: 480
B6: 1 | C6: 路基横断面图设计图 | D6: T3-3 | E6: =N5+'第三篇 路基路面 (5)'!E6 -> 5006 | N6: 480

Sheet 第三篇 路基路面 (7)
B1: 本 册 目 录
B3: 序号 | C3: 图表名称 | D3: 图号 | E3: 页码 | F3: 备注 | H3: 序号 | I3: 图表名称 | J3: 图号 | K3: 页码 | L3: 备注
C4: 第十六分册
C5: 第三篇 路基、路面 | N5: 480
B6: 1 | C6: 路基横断面图设计图 | D6: T3-3 | E6: =N5+'第三篇 路基路面 (6)'!E6 -> 5486 | N6: 271
B7: 2 | C7: 一般路基设计图 | D7: T3-4 | E7: =N6+E6 -> 5757 | N7: 3
B8: 3 | C8: 超高方式图 | D8: T3-5 | E8: =N7+E7 -> 5760 | N8: 1
B9: 4 | C9: 低填浅挖路基处理工程数量表 | D9: T3-6 | E9: =N8+E8 -> 5761 | N9: 8
B10: 5 | C10: 低填浅挖路基处理设计图 | D10: T3-7 | E10: =N9+E9 -> 5769 | N10: 1
B11: 6 | C11: 高填深挖路基工程数量表 | D11: T3-8 | E11: =N10+E10 -> 5770 | N11: 5
B12: 7 | C12: 高填深挖路基设计图 | D12: T3-9 | E12: =N11+E11 -> 5775 | N12: 37
B13: 8 | C13: 桥头路基处理工程数量表 | D13: T3-10 | E13: =N12+E12 -> 5812 | N13: 4
B14: 9 | C14: 桥头路基处理设计图 | D14: T3-11 | E14: =N13+E13 -> 5816 | N14: 1
B15: 10 | C15: 陡坡路堤或填挖交界处理工程数量表 | D15: T3-12 | E15: =N14+E14 -> 5817 | N15: 35
B16: 11 | C16: 陡坡路堤或填挖交界处理设计图 | D16: T3-13 | E16: =N15+E15 -> 5852 | N16: 2
B17: 12 | C17: 特殊（工点）路基设计工程数量表 | D17: T3-14 | E17: =N16+E16 -> 5854 | N17: 3
B18: 13 | C18: 特殊（工点）路基设计图 | D18: T3-15 | E18: =N17+E17 -> 5857 | N18: 24
B19: 14 | C19: 路基土石方计算表 | D19: T3-16 | E19: =N18+E18 -> 5881 | N19: 70
B20: 15
B21: 16
B22: 17
B23: 18
B24: 19
B25: 20
B26: 21
B27: 22
B28: 23
B29: 24
B30: 25

Sheet 第三篇 路基路面 (8)
B1: 本 册 目 录
B3: 序号 | C3: 图表名称 | D3: 图号 | E3: 页码 | F3: 备注 | H3: 序号 | I3: 图表名称 | J3: 图号 | K3: 页码 | L3: 备注
C4: 第十七分册
C5: 第三篇 路基、路面 | N5: 70
B6: 1 | C6: 路基土石方计算表 | D6: T3-16 | E6: =N5+'第三篇 路基路面 (7)'!E19 -> 5951 | N6: 480
B7: 2
B8: 3
B9: 4
B10: 5
B11: 6
B12: 7
B13: 8
B14: 9
B15: 10
B16: 11
B17: 12
B18: 13
... B30: 25

Sheet 第三篇 路基路面 (9)
B1: 本 册 目 录
B3: 序号 | C3: 图表名称 | D3: 图号 | E3: 页码 | F3: 备注 | H3: 序号 | I3: 图表名称 | J3: 图号 | K3: 页码 | L3: 备注
C4: 第十八分册
C5: 第三篇 路基、路面 | N5: 480
B6: 1 | C6: 路基土石方计算表 | D6: T3-16 | E6: =N5+'第三篇 路基路面 (8)'!E6 -> 6431 | N6: 224
B7: 2 | C7: 路基每公里土石方数量表 | D7: T3-17 | E7: =N6+E6 -> 6655 | N7: 8
B8: 3 | C8: 取土坑（场）、弃土堆（场）一览表 | D8: T3-18 | E8: =N7+E7 -> 6663 | N8: 3
B9: 4 | C9: 取土坑（场）、弃土堆（场）设计图 | D9: T3-19 | E9: =N8+E8 -> 6666 | N9: 25
B10: 5 | C10: 路基防护工程数量表 | D10: T3-20 | E10: =N9+E9 -> 6691 | N10: 86
B11: 6 | C11: 路基防护工程设计图 | D11: T3-21 | E11: =N10+E10 -> 6777 | N11: 20
B12: 7 | C12: 路面工程数量表 | D12: T3-22 | E12: =N11+E11 -> 6797 | N12: 12
B13: 8 | C13: 路面结构设计图 | D13: T3-23 | E13: =N12+E12 -> 6809 | N13: 10
B14: 9 | C14: 路基、路面排水工程数量表 | D14: T3-24 | E14: =N13+E13 -> 6819 | N14: 78
B15: 10 | C15: 路基、路面排水工程设计图 | D15: T3-25 | E15: =N14+E14 -> 6897 | N15: 5

Sheet 第四篇 桥梁
B1: 本 册 目 录
B3: 序号 | C3: 图表名称 | D3: 图号 | E3: 页码 | F3: 备注 | H3: 序号 | I3: 图表名称 | J3: 图号 | K3: 页码 | L3: 备注
C4: 第十九分册 | H4: (3) | I4: 热米1号大桥 全桥主要工程数量表 | J4: T4-4-3-11 | K4: =E37+N37 -> 6971 | O4: 1
C5: 第四篇 桥梁、涵洞 | H5: (4) | I5: 热米1号大桥 梁板平面布置图 | J5: T4-4-3-12 | K5: =K4+O4 -> 6972 | N5: 5 | O5: 2
B6: 1 | C6: 沿线水系分布图 | D6: T4-1 | E6: =N5+'第三篇 路基路面 (9)'!E15 -> 6902 | H6: (5) | I6: 热米1号大桥 上部构造标准横断面图 | J6: T4-4-3-13 | K6: =K5+O5 -> 6974 | N6: 15 | O6: 1
B7: 2 | C7: 大、中桥桥梁表 | D7: T4-2 | E7: =E6+N6 -> 6917 | H7: (6) | I7: 热米1号大桥 T梁一般构造图 | J7: T4-4-3-14 | K7: =K6+O6 -> 6975 | N7: 1 | O7: 2
B8: 3 | C8: 大、中桥桥梁主要工程数量表 | D8: T4-3 | E8: =E7+N7 -> 6918 | H8: (7) | I8: 热米1号大桥 T梁预应力钢束布置图 | J8: T4-4-3-15 | K8: =K7+O7 -> 6977 | N8: 1 | O8: 2
C9: 设计图表 | D9: T4-4 | H9: (8) | I9: 热米1号大桥 梁端封锚钢筋布置图 | J9: T4-4-3-16 | K9: =K8+O8 -> 6979 | O9: 1
B10: 4 | C10: 诺村1号大桥 | D10: T4-4-1 | H10: (9) | I10: 热米1号大桥 梁端锚下钢筋布置图 | J10: T4-4-3-17 | K10: =K9+O9 -> 6980 | O10: 2
B11: (1) | C11: 诺村1号大桥 桥位平面布置图 | D11: T4-4-1-1 | E11: =E8+N8 -> 6919 | H11: (10) | I11: 热米1号大桥 梁肋钢筋布置图 | J11: T4-4-3-18 | K11: =K10+O10 -> 6982 | N11: 1 | O11: 2
B12: (2) | C12: 诺村1号大桥 工程地质纵断面图 | D12: T4-4-1-2 | E12: =E11+N11 -> 6920 | H12: (11) | I12: 热米1号大桥 翼板钢筋布置图 | J12: T4-4-3-19 | K12: =K11+O11 -> 6984 | N12: 1 | O12: 5
B13: (3) | C13: 诺村1号大桥 桥型布置图 | D13: T4-4-1-3 | E13: =E12+N12 -> 6921 | H13: (12) | I13: 热米1号大桥 端横隔梁钢筋布置 | J13: T4-4-3-20 | K13: =K12+O12 -> 6989 | N13: 1 | O13: 2
B14: (4) | C14: 诺村1号大桥 全桥主要工程数量表 | D14: T4-4-1-4 | E14: =E13+N13 -> 6922 | H14: (13) | I14: 热米1号大桥 中横隔梁钢筋布置图 | J14: T4-4-3-21 | K14: =K13+O13 -> 6991 | N14: 1 | O14: 1
B15: (5) | C15: 诺村1号大桥 梁板平面布置图 | D15: T4-4-1-5 | E15: =E14+N14 -> 6923 | H15: (14) | I15: 热米1号大桥 腹板加厚段中横隔梁钢筋布置图 | J15: T4-4-3-22 | K15: =K14+O14 -> 6992 | N15: 1 | O15: 1
B16: (6) | C16: 诺村1号大桥 桥台一般构造图 | D16: T4-4-1-6 | E16: =E15+N15 -> 6924 | H16: (15) | I16: 热米1号大桥 桥台一般构造图 | J16: T4-4-3-23 | K16: =K15+O15 -> 6993 | N16: 2 | O16: 2
B17: (7) | C17: 诺村1号大桥 桥墩一般构造图 | D17: T4-4-1-7 | E17: =E16+N16 -> 6926 | H17: (16) | I17: 热米1号大桥 桥墩一般构造图 | J17: T4-4-3-24 | K17: =K16+O16 -> 6995 | N17: 1 | O17: 8
B18: 5 | C18: 诺村2号大桥 | D18: T4-4-2 | H18: (17) | I18: 热米1号大桥 桥墩桩柱钢筋构造图 | J18: T4-4-3-25 | K18: =K17+O17 -> 7003 | O18: 4
B19: (1) | C19: 诺村2号大桥 桥位平面布置图 | D19: T4-4-2-1 | E19: =E17+N17 -> 6927 | H19: (18) | I19: 热米1号大桥 桥墩墩柱系梁钢筋构造图 | J19: T4-4-3-26 | K19: =K18+O18 -> 7007 | N19: 2 | O19: 3
B20: (2) | C20: 诺村2号大桥 工程地质纵断面图 | D20: T4-4-2-2 | E20: =E19+N19 -> 6929 | H20: (19) | I20: 热米1号大桥 桥墩桩基系梁钢筋构造图 | J20: T4-4-3-27 | K20: =K19+O19 -> 7010 | N20: 2 | O20: 4
B21: (3) | C21: 诺村2号大桥 桥型布置图 | D21: T4-4-2-3 | E21: =E20+N20 -> 6931 | H21: (20) | I21: 热米1号大桥 桥墩承台钢筋构造图 | J21: T4-4-3-28 | K21: =K20+O20 -> 7014 | N21: 2 | O21: 2
B22: (4) | C22: 诺村2号大桥 全桥主要工程数量表 | D22: T4-4-2-4 | E22: =E21+N21 -> 6933 | H22: 7 | I22: 热米1号大桥 桥墩承台桩基钢筋构造图 | J22: T4-4-3-29 | K22: =K21+O21 -> 7016 | N22: 1 | O22: 2
B23: (5) | C23: 诺村2号大桥 桥台一般构造图 | D23: T4-4-2-5 | E23: =E22+N22 -> 6934 | H23: (1) | I23: 热米2号大桥 | J23: T4-4-4 | N23: 2
B24: (6) | C24: 诺村2号大桥 桥墩一般构造图 | D24: T4-4-2-6 | E24: =E23+N23 -> 6936 | H24: (2) | I24: 热米2号大桥 桥位平面布置图 | J24: T4-4-4-1 | K24: =K22+O22 -> 7018 | N24: 3 | O24: 3
B25: 6 | C25: 热米1号大桥 | D25: T4-4-3 | H25: (3) | I25: 热米2号大桥 工程地质纵断面图 | J25: T4-4-4-2 | K25: =K24+O24 -> 7021 | O25: 3
B26: (1) | C26: 热米1号大桥（初设方案） | D26: T4-4-3-1～8 | H26: (4) | I26: 热米2号大桥 桥型布置图 | J26: T4-4-4-3 | K26: =K25+O25 -> 7024 | O26: 3
B27: (2) | C27: 热米1号大桥 桥位平面布置图 | D27: T4-4-3-1 | E27: =E24+N24 -> 6939 | H27: (5) | I27: 热米2号大桥 全桥主要工程数量表 | J27: T4-4-4-4 | K27: =K26+O26 -> 7027 | N27: 2 | O27: 1
B28: (3) | C28: 热米1号大桥 工程地质纵断面图 | D28: T4-4-3-2 | E28: =E27+N27 -> 6941 | H28: (6) | I28: 热米2号大桥 梁板平面布置图 | J28: T4-4-4-5 | K28: =K27+O27 -> 7028 | N28: 3 | O28: 1
B29: (4) | C29: 热米1号大桥 桥型布置图 | D29: T4-4-3-3 | E29: =E28+N28 -> 6944 | H29: (7) | I29: 热米2号大桥 桥台一般构造图 | J29: T4-4-4-6 | K29: =K28+O28 -> 7029 | N29: 4 | O29: 2
B30: (5) | C30: 热米1号大桥 全桥主要工程数量表 | D30: T4-4-3-4 | E30: =E29+N29 -> 6948 | H30: 8 | I30: 热米2号大桥 桥墩一般构造图 | J30: T4-4-4-7 | K30: =K29+O29 -> 7031 | N30: 1 | O30: 5
B31: (6) | C31: 热米1号大桥 梁板平面布置图 | D31: T4-4-3-5 | E31: =E30+N30 -> 6949 | H31: (1) | I31: 达孜中桥 | J31: T4-4-5 | N31: 3
B32: (7) | C32: 热米1号大桥 连续板一般构造图 | D32: T4-4-3-6 | E32: =E31+N31 -> 6952 | H32: (2) | I32: 达孜中桥 桥位平面布置图 | J32: T4-4-5-1 | K32: =K30+O30 -> 7036 | N32: 2 | O32: 1
B33: (8) | C33: 热米1号大桥 桥台一般构造图 | D33: T4-4-3-7 | E33: =E32+N32 -> 6954 | H33: (3) | I33: 达孜中桥 工程地质纵断面图 | J33: T4-4-5-2 | K33: =K32+O32 -> 7037 | N33: 2 | O33: 1
B34: (9) | C34: 热米1号大桥 桥墩一般构造图 | D34: T4-4-3-8 | E34: =E33+N33 -> 6956 | H34: (4) | I34: 达孜中桥 桥型布置图 | J34: T4-4-5-3 | K34: =K33+O33 -> 7038 | N34: 9 | O34: 1
C35: 热米1号大桥（优化方案） | D35: T4-4-3-9～13 | H35: (5) | I35: 达孜中桥 全桥主要工程数量表 | J35: T4-4-5-4 | K35: =K34+O34 -> 7039 | O35: 1
B36: (1) | C36: 热米1号大桥 桥位平面布置图 | D36: T4-4-3-9 | E36: =E34+N34 -> 6965 | H36: (6) | I36: 达孜中桥 桥台一般构造图 | J36: T4-4-5-5 | K36: =K35+O35 -> 7040 | N36: 2 | O36: 1
B37: (2) | C37: 热米1号大桥 桥型布置图 | D37: T4-4-3-10 | E37: =E36+N36 -> 6967 | H37: (7) | I37: 达孜中桥 桥墩一般构造图 | J37: T4-4-5-6 | K37: =K36+O36 -> 7041 | N37: 4 | O37: 2
B39: 本 册 目 录
B41: 序号 | C41: 图表名称 | D41: 图号 | E41: 页码 | F41: 备注 | H41: 序号 | I41: 图表名称 | J41: 图号 | K41: 页码 | L41: 备注
C42: 第十九分册 | H42: (2) | I42: 下却2#桥 工程地质纵断面图 | J42: T4-4-10-2 | K42: =E75+N75 -> 7081 | O42: 1
C43: 第四篇 桥梁、涵洞 | H43: (3) | I43: 下却2#桥 桥型布置图 | J43: T4-4-10-3 | K43: =K42+O42 -> 7082 | O43: 1
...

Sheet 第四篇 桥梁 (2)
B1: 本 册 目 录
B3: 序号 | C3: 图表名称 | D3: 图号 | E3: 页码 | F3: 备注 | H3: 序号 | I3: 图表名称 | J3: 图号 | K3: 页码 | L3: 备注 | N3: 6
C4: 第二十分册 | H4: 21 | I4: 康萨1#桥 | J4: T4-4-18
C5: 第四篇 桥梁、涵洞 | H5: (1) | I5: 康萨1#桥 桥位平面布置图 | J5: T4-4-18-1 | K5: =E36+N36 -> 7214 | O5: 1
B6: 17 | C6: 仙沟大桥 | D6: T4-4-14 | H6: (2) | I6: 康萨1#桥 工程地质纵断面图 | J6: T4-4-18-2 | K6: =K5+O5 -> 7215 | O6: 1
B7: (1) | C7: 仙沟大桥 桥位平面布置图 | D7: T4-4-14-1 | E7: =N3+'第四篇 桥梁'!E93 -> 7169 | H7: (3) | I7: 康萨1#桥 桥型布置图 | J7: T4-4-18-3 | K7: =K6+O6 -> 7216 | N7: 1 | O7: 1
B8: (2) | C8: 仙沟大桥 工程地质纵断面图 | D8: T4-4-14-2 | E8: =E7+N7 -> 7170 | H8: (4) | I8: 康萨1#桥 全桥主要工程数量表 | J8: T4-4-18-4 | K8: =K7+O7 -> 7217 | N8: 1 | O8: 1
B9: (3) | C9: 仙沟大桥 桥型布置图 | D9: T4-4-14-3 | E9: =E8+N8 -> 7171 | H9: (5) | I9: 康萨1#桥 梁板平面布置图 | J9: T4-4-18-5 | K9: =K8+O8 -> 7218 | N9: 1 | O9: 1
B10: (4) | C10: 仙沟大桥 全桥主要工程数量表 | D10: T4-4-14-4 | E10: =E9+N9 -> 7172 | H10: (6) | I10: 康萨1#桥 桥台一般构造图 | J10: T4-4-18-6 | K10: =K9+O9 -> 7219 | N10: 1 | O10: 1
B11: (5) | C11: 仙沟大桥 桥台一般构造图 | D11: T4-4-14-5 | E11: =E10+N10 -> 7173 | H11: (7) | I11: 康萨1#桥 桥墩一般构造图 | J11: T4-4-18-7 | K11: =K10+O10 -> 7220 | N11: 1 | O11: 1
B12: (6) | C12: 仙沟大桥 桥墩一般构造图 | D12: T4-4-14-6 | E12: =E11+N11 -> 7174 | H12: 22 | I12: 康萨2#桥 | J12: T4-4-19 | N12: 3
B13: 18 | C13: 莫工中桥 | D13: T4-4-15 | H13: (1) | I13: 康萨2#桥 桥位平面布置图 | J13: T4-4-19-1 | K13: =K11+O11 -> 7221 | O13: 1
B14: (1) | C14: 莫工中桥 桥位平面布置图 | D14: T4-4-15-1 | E14: =E12+N12 -> 7177 | H14: (2) | I14: 康萨2#桥 工程地质纵断面图 | J14: T4-4-19-2 | K14: =K13+O13 -> 7222 | N14: 1 | O14: 1
B15: (2) | C15: 莫工中桥 工程地质纵断面图 | D15: T4-4-15-2 | E15: =E14+N14 -> 7178 | H15: (3) | I15: 康萨2#桥 桥型布置图 | J15: T4-4-19-3 | K15: =K14+O14 -> 7223 | N15: 1 | O15: 1
B16: (3) | C16: 莫工中桥 桥型布置图 | D16: T4-4-15-3 | E16: =E15+N15 -> 7179 | H16: (4) | I16: 康萨2#桥 全桥主要工程数量表 | J16: T4-4-19-4 | K16: =K15+O15 -> 7224 | N16: 1 | O16: 1
B17: (4) | C17: 莫工中桥 全桥主要工程数量表 | D17: T4-4-15-4 | E17: =E16+N16 -> 7180 | H17: (5) | I17: 康萨2#桥 梁板平面布置图 | J17: T4-4-19-5 | K17: =K16+O16 -> 7225 | N17: 1 | O17: 1
B18: (5) | C18: 莫工中桥 梁板平面布置图 | D18: T4-4-15-5 | E18: =E17+N17 -> 7181 | H18: (6) | I18: 康萨2#桥 桥台一般构造图 | J18: T4-4-19-6 | K18: =K17+O17 -> 7226 | N18: 1 | O18: 1
B19: (6) | C19: 莫工中桥 桥台一般构造图 | D19: T4-4-15-6 | E19: =E18+N18 -> 7182 | H19: (7) | I19: 康萨2#桥 桥墩一般构造图 | J19: T4-4-19-7 | K19: =K18+O18 -> 7227 | N19: 1 | O19: 3
B20: (7) | C20: 莫工中桥 桥墩一般构造图 | D20: T4-4-15-7 | E20: =E19+N19 -> 7183 | H20: 23 | I20: 龙安中桥 | J20: T4-4-20 | N20: 1
B21: 19 | C21: 才巴中桥 | D21: T4-4-16 | H21: (1) | I21: 龙安中桥 桥位平面布置图 | J21: T4-4-20-1 | K21: =K19+O19 -> 7230 | O21: 1
B22: (1) | C22: 才巴中桥 桥位平面布置图 | D22: T4-4-16-1 | E22: =E20+N20 -> 7184 | H22: (2) | I22: 龙安中桥 工程地质纵断面图 | J22: T4-4-20-2 | K22: =K21+O21 -> 7231 | N22: 1 | O22: 1
B23: (2) | C23: 才巴中桥 工程地质纵断面图 | D23: T4-4-16-2 | E23: =E22+N22 -> 7185 | H23: (3) | I23: 龙安中桥 桥型布置图 | J23: T4-4-20-3 | K23: =K22+O22 -> 7232 | N23: 1 | O23: 1
B24: (3) | C24: 才巴中桥 桥型布置图 | D24: T4-4-16-3 | E24: =E23+N23 -> 7186 | H24: (4) | I24: 龙安中桥 全桥主要工程数量表 | J24: T4-4-20-4 | K24: =K23+O23 -> 7233 | N24: 1 | O24: 1
B25: (4) | C25: 才巴中桥 全桥主要工程数量表 | D25: T4-4-16-4 | E25: =E24+N24 -> 7187 | H25: (5) | I25: 龙安中桥 梁板平面布置图 | J25: T4-4-20-5 | K25: =K24+O24 -> 7234 | N25: 1 | O25: 1
B26: (5) | C26: 才巴中桥 箱梁一般构造图 | D26: T4-4-16-5 | E26: =E25+N25 -> 7188 | H26: (6) | I26: 龙安中桥 桥台一般构造图 | J26: T4-4-20-6 | K26: =K25+O25 -> 7235 | N26: 6 | O26: 1
B27: (6) | C27: 才巴中桥 箱梁预应力钢束布置图 | D27: T4-4-16-6 | E27: =E26+N26 -> 7194 | H27: (7) | I27: 龙安中桥 桥墩一般构造图 | J27: T4-4-20-7 | K27: =K26+O26 -> 7236 | N27: 5 | O27: 1
B28: (7) | C28: 才巴中桥 桥台一般构造图 | D28: T4-4-16-7 | E28: =E27+N27 -> 7199 | H28: 24 | I28: 扎村大桥 | J28: T4-4-21 | N28: 1
B29: (8) | C29: 才巴中桥 桥墩一般构造图 | D29: T4-4-16-8 | E29: =E28+N28 -> 7200 | H29: (1) | I29: 扎村大桥 桥位平面布置图 | J29: T4-4-21-1 | K29: =K27+O27 -> 7237 | N29: 1 | O29: 1
B30: 20 | C30: 森波大桥 | D30: T4-4-17 | H30: (2) | I30: 扎村大桥 工程地质纵断面图 | J30: T4-4-21-2 | K30: =K29+O29 -> 7238 | O30: 2
B31: (1) | C31: 森波大桥 桥位平面布置图 | D31: T4-4-17-1 | E31: =E29+N29 -> 7201 | H31: (3) | I31: 扎村大桥 桥型布置图 | J31: T4-4-21-3 | K31: =K30+O30 -> 7240 | N31: 1 | O31: 3
B32: (2) | C32: 森波大桥 工程地质纵断面图 | D32: T4-4-17-2 | E32: =E31+N31 -> 7202 | H32: (4) | I32: 扎村大桥 全桥主要工程数量表 | J32: T4-4-21-4 | K32: =K31+O31 -> 7243 | N32: 2 | O32: 1
B33: (3) | C33: 森波大桥 桥型布置图 | D33: T4-4-17-3 | E33: =E32+N32 -> 7204 | H33: (5) | I33: 扎村大桥 梁板平面布置图 | J33: T4-4-21-5 | K33: =K32+O32 -> 7244 | N33: 3 | O33: 2
B34: (4) | C34: 森波大桥 全桥主要工程数量表 | D34: T4-4-17-4 | E34: =E33+N33 -> 7207 | H34: (6) | I34: 扎村大桥 桥台一般构造图 | J34: T4-4-21-6 | K34: =K33+O33 -> 7246 | N34: 1 | O34: 2
B35: (5) | C35: 森波大桥 桥台一般构造图 | D35: T4-4-17-5 | E35: =E34+N34 -> 7208 | H35: (7) | I35: 扎村大桥 桥墩一般构造图 | J35: T4-4-21-7 | K35: =K34+O34 -> 7248 | N35: 2 | O35: 4
B36: (6) | C36: 森波大桥 桥墩一般构造图 | D36: T4-4-17-6 | E36: =E35+N35 -> 7210 | N36: 4
B41: 本 册 目 录
B43: 序号 | C43: 图表名称 | D43: 图号 | E43: 页码 | F43: 备注 | H43: 序号 | I43: 图表名称 | J43: 图号 | K43: 页码 | L43: 备注
C44: 第二十分册 | H44: (32) | I44: 扎村大桥（优化方案） 桥台桩基钢筋构造图 | J44: T4-4-22-32 | K44: =E77+N77 -> 7299 | O44: 1
C45: 第四篇 桥梁、涵洞 | H45: (33) | I45: 扎村大桥（优化方案） 桥台搭板一般构造图 | J45: T4-4-22-33 | K45: =K44+O44 -> 7300 | O45: 1
B46: 25 | C46: 扎村大桥（优化方案） | D46: T4-4-22 | H46: (34) | I46: 扎村大桥（优化方案） 桥台搭板钢筋构造图 | J46: T4-4-22-34 | K46: =K45+O45 -> 7301 | O46: 1
...

Sheet 第五篇 隧道
B1: 本 册 目 录
B3: 序号 | C3: 图表名称 | D3: 图号 | E3: 页码 | F3: 备注 | H3: 序号 | I3: 图表名称 | J3: 图号 | K3: 页码 | L3: 备注
C4: 第二十一分册 | H4: (12) | I4: 热米2#隧道纵断面设计图 | J4: T5-3-3-2 | K4: =E37+N37 -> 7533 | O4: 3
C5: 第五篇 隧道工程 | H5: (13) | I5: 热米2#隧道平面优化设计图 | J5: T5-3-3-3 | K5: =K4+O4 -> 7536 | N5: 4 | O5: 5
B6: 1 | C6: 隧道表 | D6: T5-1 | E6: =N5+'第四篇 桥梁 (2)'!E107 -> 7427 | H6: (14) | I6: 热米2#隧道优化纵断面图 | J6: T5-3-3-4 | K6: =K5+O5 -> 7541 | N6: 6 | O6: 4
B7: 2 | C7: 隧道工程数量表 | D7: T5-2 | H7: (15) | I7: 热米2#隧道施工方案布置图 | J7: T5-3-3-5 | K7: =K6+O6 -> 7545 | O7: 2
B8: (1) | C8: 隧道路面工程数量表 | D8: T5-2-1 | E8: =E6+N6 -> 7433 | H8: (16) | I8: 扎村隧道平面设计图 | J8: T5-3-4-1 | K8: =K7+O7 -> 7547 | N8: 1 | O8: 2
B9: (2) | C9: 诺村隧道工程数量表 | D9: T5-2-2 | E9: =E8+N8 -> 7434 | H9: (17) | I9: 扎村隧道纵断面设计图 | J9: T5-3-4-2 | K9: =K8+O8 -> 7549 | N9: 4 | O9: 2
B10: (3) | C10: 热米1#隧道工程数量表 | D10: T5-2-3 | E10: =E9+N9 -> 7438 | H10: (18) | I10: 扎村隧道施工方案布置图 | J10: T5-3-4-3 | K10: =K9+O9 -> 7551 | N10: 4 | O10: 1
B11: (4) | C11: 热米2#隧道工程数量表 | D11: T5-2-4 | E11: =E10+N10 -> 7442 | H11: (19) | I11: 江中隧道平面设计图 | J11: T5-3-5-1 | K11: =K10+O10 -> 7552 | N11: 4 | O11: 1
B12: (5) | C12: 扎村隧道工程数量表 | D12: T5-2-5 | E12: =E11+N11 -> 7446 | H12: (20) | I12: 江中隧道纵断面设计图 | J12: T5-3-5-2 | K12: =K11+O11 -> 7553 | N12: 4 | O12: 1
B13: (6) | C13: 江中隧道工程数量表 | D13: T5-2-6 | E13: =E12+N12 -> 7450 | H13: (21) | I13: 江中隧道施工方案布置图 | J13: T5-3-5-3 | K13: =K12+O12 -> 7554 | N13: 4 | O13: 1
B14: (7) | C14: 单嘎1#隧道工程数量表 | D14: T5-2-7 | E14: =E13+N13 -> 7454 | H14: (22) | I14: 单嘎1#隧道平面设计图 | J14: T5-3-6-1 | K14: =K13+O13 -> 7555 | N14: 4 | O14: 2
B15: (8) | C15: 单嘎2#隧道工程数量表 | D15: T5-2-8 | E15: =E14+N14 -> 7458 | H15: (23) | I15: 单嘎1#隧道纵断面设计图 | J15: T5-3-6-2 | K15: =K14+O14 -> 7557 | N15: 4 | O15: 2
B16: (9) | C16: 下却1#隧道工程数量表 | D16: T5-2-9 | E16: =E15+N15 -> 7462 | H16: (24) | I16: 单嘎1#隧道施工方案布置图 | J16: T5-3-6-3 | K16: =K15+O15 -> 7559 | N16: 4 | O16: 1
B17: (10) | C17: 下却2#隧道工程数量表 | D17: T5-2-10 | E17: =E16+N16 -> 7466 | H17: (25) | I17: 单嘎2#隧道平面设计图 | J17: T5-3-7-1 | K17: =K16+O16 -> 7560 | N17: 4 | O17: 2
B18: (11) | C18: 仙沟1#隧道工程数量表 | D18: T5-2-11 | E18: =E17+N17 -> 7470 | H18: (26) | I18: 单嘎2#隧道纵断面设计图 | J18: T5-3-7-2 | K18: =K17+O17 -> 7562 | N18: 4 | O18: 1
B19: (12) | C19: 仙沟2#隧道工程数量表 | D19: T5-2-12 | E19: =E18+N18 -> 7474 | H19: (27) | I19: 单嘎2#隧道施工方案布置图 | J19: T5-3-7-3 | K19: =K18+O18 -> 7563 | N19: 4 | O19: 1
B20: (13) | C20: 堆米隧道工程数量表 | D20: T5-2-13 | E20: =E19+N19 -> 7478 | H20: (28) | I20: 下却1#隧道平面设计图 | J20: T5-3-8-1 | K20: =K19+O19 -> 7564 | N20: 4 | O20: 1
... B25: (18) | C25: 噶当隧道工程数量表 | D25: T5-2-18 | E25: =E24+N24 -> 7498 | H25: (33) | I25: 下却2#隧道施工方案布置图 | J25: T5-3-9-3 | K25: =K24+O24 -> 7573 | N25: 4 | O25: 2
B26: 3 | C26: 隧道总体设计图 | D26: T5-3 | H26: (34) | I26: 仙沟1#隧道平面设计图 | J26: T5-3-10-1 | K26: =K25+O25 -> 7575 | O26: 2
B27: (1) | C27: 诺村隧道平面设计图 | D27: T5-3-1-1 | E27: =E25+N25 -> 7502 | H27: (35) | I27: 仙沟1#隧道纵断面设计图 | J27: T5-3-10-2 | K27: =K26+O26 -> 7577 | N27: 2 | O27: 2
B28: (2) | C28: 诺村隧道纵断面设计图 | D28: T5-3-1-2 | E28: =E27+N27 -> 7504 | H28: (36) | I28: 仙沟1#隧道施工方案布置图 | J28: T5-3-10-3 | K28: =K27+O27 -> 7579 | N28: 2 | O28: 2
B29: (3) | C29: 诺村隧道平面优化设计图 | D29: T5-3-1-3 | E29: =E28+N28 -> 7506 | H29: (37) | I29: 仙沟2#隧道平面设计图 | J29: T5-3-11-1 | K29: =K28+O28 -> 7581 | N29: 2 | O29: 4
B30: (4) | C30: 诺村隧道优化纵断面图 | D30: T5-3-1-4 | E30: =E29+N29 -> 7508 | H30: (38) | I30: 仙沟2#隧道纵断面设计图 | J30: T5-3-11-2 | K30: =K29+O29 -> 7585 | N30: 2 | O30: 4
B31: (5) | C31: 诺村隧道施工方案布置图 | D31: T5-3-1-5 | E31: =E30+N30 -> 7510 | H31: (39) | I31: 仙沟2#隧道施工方案布置图 | J31: T5-3-11-3 | K31: =K30+O30 -> 7589 | N31: 2 | O31: 2
B32: (6) | C32: 热米1#隧道平面设计图 | D32: T5-3-2-1 | E32: =E31+N31 -> 7512 | H32: (40) | I32: 堆米隧道平面设计图 | J32: T5-3-12-1 | K32: =K31+O31 -> 7591 | N32: 3 | O32: 2
B33: (7) | C33: 热米1#隧道纵断面设计图 | D33: T5-3-2-2 | E33: =E32+N32 -> 7515 | H33: (41) | I33: 堆米隧道纵断面设计图 | J33: T5-3-12-2 | K33: =K32+O32 -> 7593 | N33: 3 | O33: 2
B34: (8) | C34: 热米1#隧道平面优化设计图 | D34: T5-3-2-3 | E34: =E33+N33 -> 7518 | H34: (42) | I34: 堆米隧道施工方案布置图 | J34: T5-3-12-3 | K34: =K33+O33 -> 7595 | N34: 6 | O34: 1
B35: (9) | C35: 热米1#隧道优化纵断面图 | D35: T5-3-2-4 | E35: =E34+N34 -> 7524 | H35: (43) | I35: 森波隧道平面设计图 | J35: T5-3-13-1 | K35: =K34+O34 -> 7596 | N35: 4 | O35: 4
B36: (10) | C36: 热米1#隧道施工方案布置图 | D36: T5-3-2-5 | E36: =E35+N35 -> 7528 | H36: (44) | I36: 森波隧道纵断面设计图 | J36: T5-3-13-2 | K36: =K35+O35 -> 7600 | N36: 2 | O36: 4
B37: (11) | C37: 热米2#隧道平面设计图 | D37: T5-3-3-1 | E37: =E36+N36 -> 7530 | H37: (45) | I37: 森波隧道施工方案布置图 | J37: T5-3-13-3 | K37: =K36+O36 -> 7604 | N37: 3 | O37: 2
B39: 本 册 目 录
B41: 序号 | C41: 图表名称 | D41: 图号 | E41: 页码 | F41: 备注 | H41: 序号 | I41: 图表名称 | J41: 图号 | K41: 页码 | L41: 备注
C42: 第二十一分册 | H42: (18) | I42: 下却2#隧道出口洞门设计图 | J42: T5-4-9-2 | K42: =E75+N75 -> 7680 | O42: 2
C43: 第五篇 隧道工程 | H43: (19) | I43: 仙沟1#隧道进口洞门设计图 | J43: T5-4-10-1 | K43: =K42+O42 -> 7682 | O43: 2
B44: (46) | C44: 龙安隧道平面设计图 | D44: T5-3-14-1 | E44: =K37+O37 -> 7606 | H44: (20) | I44: 仙沟1#隧道出口洞门设计图 | J44: T5-4-10-2 | K44: =K43+O43 -> 7684 | N44: 4 | O44: 2
B45: (47) | C45: 龙安隧道隧道纵断面设计图 | D45: T5-3-14-2 | E45: =E44+N44 -> 7610 | H45: (21) | I45: 仙沟2#隧道进口洞门设计图 | J45: T5-4-11-1 | K45: =K44+O44 -> 7686 | N45: 3 | O45: 2
B46: (48) | C46: 龙安隧道平面优化设计图 | D46: T5-3-14-3 | E46: =E45+N45 -> 7613 | H46: (22) | I46: 仙沟2#隧道出口洞门设计图 | J46: T5-4-11-2 | K46: =K45+O45 -> 7688 | N46: 5 | O46: 2
B47: (49) | C47: 龙安隧道优化纵断面图 | D47: T5-3-14-4 | E47: =E46+N46 -> 7618 | H47: (23) | I47: 堆米隧道进口洞门设计图 | J47: T5-4-12-1 | K47: =K46+O46 -> 7690 | N47: 5 | O47: 2
...

Sheet 第五篇 隧道 (2)
B1: 本 册 目 录
B3: 序号 | C3: 图表名称 | D3: 图号 | E3: 页码 | F3: 备注 | H3: 序号 | I3: 图表名称 | J3: 图号 | K3: 页码 | L3: 备注
C4: 第二十二分册
C5: 第五篇 隧道工程
B6: (1) | C6: 隧道机电工程数量表 | D6: T5-6 | N6: 1
B7: (2) | C7: 诺村隧道附属设施一览表 | D7: T5-6-1 | E7: =N6+'第五篇 隧道'!K70 -> 7764 | N7: 3
B8: (3) | C8: 热米1#隧道附属设施一览表 | D8: T5-6-2 | E8: =E7+N7 -> 7767 | N8: 8
B9: (4) | C9: 热米2#隧道附属设施一览表 | D9: T5-6-3 | E9: =E8+N8 -> 7775 | N9: 8
B10: (5) | C10: 扎村隧道附属设施一览表 | D10: T5-6-4 | E10: =E9+N9 -> 7783 | N10: 8
B11: (6) | C11: 江中隧道附属设施一览表 | D11: T5-6-5 | E11: =E10+N10 -> 7791 | N11: 3
B12: (7) | C12: 单嘎1#隧道附属设施一览表 | D12: T5-6-6 | E12: =E11+N11 -> 7794 | N12: 3
B13: (8) | C13: 单嘎2#隧道附属设施一览表 | D13: T5-6-7 | E13: =E12+N12 -> 7797 | N13: 3
B14: (9) | C14: 下却1#隧道附属设施一览表 | D14: T5-6-8 | E14: =E13+N13 -> 7800 | N14: 3
B15: (10) | C15: 下却2#隧道附属设施一览表 | D15: T5-6-9 | E15: =E14+N14 -> 7803 | N15: 8
B16: (11) | C16: 仙沟1#隧道附属设施一览表 | D16: T5-6-10 | E16: =E15+N15 -> 7811 | N16: 6
B17: (12) | C17: 仙沟2#隧道附属设施一览表 | D17: T5-6-11 | E17: =E16+N16 -> 7817 | N17: 8
B18: (13) | C18: 堆米隧道附属设施一览表 | D18: T5-6-12 | E18: =E17+N17 -> 7825 | N18: 3
B19: (14) | C19: 森波隧道附属设施一览表 | D19: T5-6-13 | E19: =E18+N18 -> 7828 | N19: 8
... B26: (21) | C26: 扎绕保通点附属设施一览表 | D26: T5-6-20 | E26: =E25+N25 -> 7860 | N26: 1
B27: 7 | C27: 隧道机电工程通用图 | D27: T5-7
B28: (1) | C28: 隧道监控设计图 | D28: T5-7-JK | E28: =E26+N26 -> 7861 | N28: 34
B29: (2) | C29: 隧道火灾报警设计图 | D29: T5-7-BJ | E29: =E28+N28 -> 7895 | N29: 10
B30: (3) | C30: 隧道通风设计图 | D30: T5-7-TF | E30: =E29+N29 -> 7905 | N30: 11
B31: (4) | C31: 隧道照明设计图 | D31: T5-7-ZM | E31: =E30+N30 -> 7916 | N31: 39
B32: (5) | C32: 隧道消防设计图 | D32: T5-7-XF | E32: =E31+N31 -> 7955 | N32: 4
B33: (6) | C33: 隧道供配电设计图 | D33: T5-7-GD | E33: =E32+N32 -> 7959 | N33: 45
B34: (7) | C34: 隧道变电所结构设计图 | D34: T5-7-PJ | E34: =E33+N33 -> 8004 | N34: 8

Sheet 其它
B1: 本 册 目 录
B3: 序号 | C3: 图表名称 | D3: 图号 | E3: 页码 | F3: 备注 | H3: 序号 | I3: 图表名称 | J3: 图号 | K3: 页码 | L3: 备注
C4: 第二十三分册 | H4: (22) | I4: 设备房1-1剖面图 | J4: T7-2-2-22 | K4: =E37+N37 -> 8051 | O4: 1
C5: 第六篇 路线交叉 | H5: (23) | I5: 设备房A-B轴立面图、B-A轴立面图 | J5: T7-2-2-23 | K5: =K4+O4 -> 8052 | O5: 1
B6: 1 | C6: 平面交叉设置及工程数量一览表 | D6: T6-1 | E6: ='第五篇 隧道 (2)'!E34+'第五篇 隧道 (2)'!N34 -> 8012 | H6: (24) | I6: 工程做法表门窗表 | J6: T7-2-2-24 | K6: =K5+O5 -> 8053 | N6: 7 | O6: 1
B7: 2 | C7: 平面交叉布置图 | D7: T6-2 | E7: =E6+N6 -> 8019 | H7: 3 | I7: 保通点结构设计图纸 | J7: T7-2-3 | N7: 6
C8: 第七篇 交通工程及沿线设施 | H8: (1) | I8: 洞嘎、卧龙保通点食堂基础平面布置图 | J8: T7-2-3-01 | K8: =K6+O6 -> 8054 | O8: 1
C9: 保通点设计图纸 | D9: T7-2 | H9: (2) | I9: 洞嘎、卧龙保通点食堂柱配筋图 | J9: T7-2-3-02 | K9: =K8+O8 -> 8055 | O9: 1
B10: 1 | C10: 保通点总平面图 | D10: T7-2-1 | H10: (3) | I10: 洞嘎、卧龙保通点食堂一层板平面配筋图 | J10: T7-2-3-03 | K10: =K9+O9 -> 8056 | O10: 1
B11: (1) | C11: 洞嘎保通点总平面图 | D11: T7-2-1-01 | E11: =E7+N7 -> 8025 | H11: (4) | I11: 洞嘎、卧龙保通点食堂屋面板平面配筋图 | J11: T7-2-3-04 | K11: =K10+O10 -> 8057 | N11: 1 | O11: 1
B12: (2) | C12: 洞嘎保通点区域位置图 | D12: T7-2-1-02 | E12: =E11+N11 -> 8026 | H12: (5) | I12: 洞嘎、卧龙保通点食堂一层梁平法配筋图 | J12: T7-2-3-05 | K12: =K11+O11 -> 8058 | N12: 1 | O12: 1
B13: (3) | C13: 卧龙保通点总平面图 | D13: T7-2-1-03 | E13: =E12+N12 -> 8027 | H13: (6) | I13: 洞嘎、卧龙保通点食堂屋面梁平法配筋图 | J13: T7-2-3-06 | K13: =K12+O12 -> 8059 | N13: 1 | O13: 1
B14: (4) | C14: 卧龙保通点区域位置图 | D14: T7-2-1-04 | E14: =E13+N13 -> 8028 | H14: (7) | I14: 洞嘎、卧龙保通点值班及监控室基础平面布置图 | J14: T7-2-3-07 | K14: =K13+O13 -> 8060 | N14: 1 | O14: 1
B15: (5) | C15: 扎绕保通点总平面图 | D15: T7-2-1-05 | E15: =E14+N14 -> 8029 | H15: (8) | I15: 洞嘎、卧龙保通点值班及监控室柱配筋图 | J15: T7-2-3-08 | K15: =K14+O14 -> 8061 | N15: 1 | O15: 1
B16: 2 | C16: 保通点建筑设计图 | D16: T7-2-2 | H16: (9) | I16: 洞嘎、卧龙保通点值班及监控室一层板平面配筋图 | J16: T7-2-3-09 | K16: =K15+O15 -> 8062 | O16: 1
B17: (1) | C17: 车库及养护设备存放间一层平面图 | D17: T7-2-2-01 | E17: =E15+N15 -> 8030 | H17: (10) | I17: 洞嘎、卧龙保通点值班及监控室屋面板平面配筋图 | J17: T7-2-3-10 | K17: =K16+O16 -> 8063 | N17: 1 | O17: 1
B18: (2) | C18: 车库及养护设备存放间屋顶平面图 | D18: T7-2-2-02 | E18: =E17+N17 -> 8031 | H18: (11) | I18: 洞嘎、卧龙保通点值班及监控室一层梁平法配筋图 | J18: T7-2-3-11 | K18: =K17+O17 -> 8064 | N18: 1 | O18: 1
B19: (3) | C19: 车库及养护设备存放间1-1剖面图 | D19: T7-2-2-03 | E19: =E18+N18 -> 8032 | H19: (12) | I19: 洞嘎、卧龙保通点值班及监控室屋面梁平法配筋图 | J19: T7-2-3-12 | K19: =K18+O18 -> 8065 | N19: 1 | O19: 1
B20: (4) | C20: 车库及养护设备存放间1-6轴、6-1轴立面图 | D20: T7-2-2-04 | E20: =E19+N19 -> 8033 | H20: (13) | I20: 洞嘎、卧龙保通点职工公寓基础平面布置图 | J20: T7-2-3-13 | K20: =K19+O19 -> 8066 | N20: 1 | O20: 1
B21: (5) | C21: 车库及养护设备存放间A-B轴、B-A轴立面图 | D21: T7-2-2-05 | E21: =E20+N20 -> 8034 | H21: (14) | I21: 洞嘎、卧龙保通点职工公寓柱配筋图 | J21: T7-2-3-14 | K21: =K20+O20 -> 8067 | N21: 1 | O21: 1
B22: (6) | C22: 职工公寓一层平面图 | D22: T7-2-2-06 | E22: =E21+N21 -> 8035 | H22: (15) | I22: 洞嘎、卧龙保通点职工公寓一层板平面配筋图 | J22: T7-2-3-15 | K22: =K21+O21 -> 8068 | N22: 1 | O22: 1
B23: (7) | C23: 职工公寓二层平面图 | D23: T7-2-2-07 | E23: =E22+N22 -> 8036 | H23: (16) | I23: 洞嘎、卧龙保通点职工公寓二层板平面配筋图 | J23: T7-2-3-16 | K23: =K22+O22 -> 8069 | N23: 1 | O23: 1
B24: (8) | C24: 职工公寓屋顶平面图 | D24: T7-2-2-08 | E24: =E23+N23 -> 8037 | H24: (17) | I24: 洞嘎、卧龙保通点职工公寓屋面板平面配筋图 | J24: T7-2-3-17 | K24: =K23+O23 -> 8070 | N24: 1 | O24: 1
B25: (9) | C25: 职工公寓1-4轴立面图 | D25: T7-2-2-09 | E25: =E24+N24 -> 8038 | H25: (18) | I25: 洞嘎、卧龙保通点职工公寓一层梁平法配筋图 | J25: T7-2-3-18 | K25: =K24+O24 -> 8071 | N25: 1 | O25: 1
B26: (10) | C26: 职工公寓1-4轴剖面图 | D26: T7-2-2-10 | E26: =E25+N25 -> 8039 | H26: (19) | I26: 洞嘎、卧龙保通点职工公寓二层梁平法配筋图 | J26: T7-2-3-19 | K26: =K25+O25 -> 8072 | N26: 1 | O26: 1
B27: (11) | C27: 职工公寓A-T轴、T-A轴立面图 | D27: T7-2-2-11 | E27: =E26+N26 -> 8040 | H27: (20) | I27: 洞嘎、卧龙保通点职工公寓屋面梁平法配筋图 | J27: T7-2-3-20 | K27: =K26+O26 -> 8073 | N27: 1 | O27: 1
B28: (12) | C28: 食堂一层平面图、屋顶平面图 | D28: T7-2-2-12 | E28: =E27+N27 -> 8041 | H28: (21) | I28: 洞嘎、卧龙保通点车库基础平面布置图 | J28: T7-2-3-21 | K28: =K27+O27 -> 8074 | N28: 1 | O28: 1
B29: (13) | C29: 食堂1-3轴、3-1轴立面图 | D29: T7-2-2-13 | E29: =E28+N28 -> 8042 | H29: (22) | I29: 洞嘎、卧龙保通点车库基顶~屋面层柱平法施工图 | J29: T7-2-3-22 | K29: =K28+O28 -> 8075 | N29: 1 | O29: 1
... B37: (21) | C37: 设备房1-8轴立面图、8-1轴立面图 | D37: T7-2-2-21 | E37: =E36+N36 -> 8050 | H37: (30) | I37: 洞嘎、卧龙保通点设备房屋面梁平法施工图 | J37: T7-2-3-30 | K37: =K36+O36 -> 8083 | N37: 1 | O37: 1
B39: 本 册 目 录
B41: 序号 | C41: 图表名称 | D41: 图号 | E41: 页码 | F41: 备注 | H41: 序号 | I41: 图表名称 | J41: 图号 | K41: 页码 | L41: 备注
C42: 第二十三分册 | H42: (2) | I42: 接地总平图 | J42: T7-2-4-02 | K42: =E75+N75 -> 8115 | O42: 1
C43: 第七篇 交通工程及沿线设施 | H43: (3) | I43: 室外灯具、监控点位总平图 | J43: T7-2-4-03 | K43: =K42+O42 -> 8116 | O43: 1
B44: (31) | C44: 扎绕保通点食堂基础平面布置图 | D44: T7-2-3-31 | E44: =K37+O37 -> 8084 | H44: (4) | I44: 室外灯具、监控大样图、材料表 | J44: T7-2-4-04 | K44: =K43+O43 -> 8117 | N44: 1 | O44: 1
B45: (32) | C45: 扎绕保通点食堂柱配筋图 | D45: T7-2-3-32 | E45: =E44+N44 -> 8085 | H45: (5) | I45: 计算书、竖向图 | J45: T7-2-4-05 | K45: =K44+O44 -> 8118 | N45: 1 | O45: 1
B46: (33) | C46: 扎绕保通点食堂一层板平面配筋图 | D46: T7-2-3-33 | E46: =E45+N45 -> 8086 | H46: (6) | I46: 箱变系统图 1 | J46: T7-2-4-06 | K46: =K45+O45 -> 8119 | N46: 1 | O46: 1
B47: (34) | C47: 扎绕保通点食堂屋面板平面配筋图 | D47: T7-2-3-34 | E47: =E46+N46 -> 8087 | H47: (7) | I47: 箱变系统图 2 | J47: T7-2-4-07 | K47: =K46+O46 -> 8120 | N47: 1 | O47: 1
B48: (35) | C48: 扎绕保通点食堂一层梁平法配筋图 | D48: T7-2-3-35 | E48: =E47+N47 -> 8088 | H48: (8) | I48: 车库配电箱系统图 | J48: T7-2-4-08 | K48: =K47+O47 -> 8121 | N48: 1 | O48: 1
B49: (36) | C49: 扎绕保通点食堂屋面梁平法配筋图 | D49: T7-2-3-36 | E49: =E48+N48 -> 8089 | H49: (9) | I49: 车库电气平面图 | J49: T7-2-4-09 | K49: =K48+O48 -> 8122 | N49: 1 | O49: 1
B50: (37) | C50: 扎绕保通点值班及监控室基础平面布置图 | D50: T7-2-3-37 | E50: =E49+N49 -> 8090 | H50: (10) | I50: 车库接地平面图 | J50: T7-2-4-10 | K50: =K49+O49 -> 8123 | N50: 1 | O50: 1
...
