Workbook

Sheet 第一篇总体路线
B1: 本 册 目 录
M2: 1000
B3: 序号 | C3: 图表名称 | D3: 图号 | E3: 页码 | F3: 备注 | H3: 序号 | I3: 图表名称 | J3: 图号 | K3: 页码 | L3: 备注 | N3: 页码
C4: 第六分册
C5: 第一篇 总体设计
B6: 1 | C6: 效果图 | D6: T1-1 | E6: =M2 -> 1000 | N6: 7
B7: 2 | C7: 项目地理位置图 | D7: T1-2 | E7: =E6+N6 -> 1007 | N7: 1
B8: 3 | C8: 路线平、纵面缩图 | D8: T1-3 | E8: =E7+N7 -> 1008 | N8: 1
B9: 4 | C9: 主要技术经济指标表 | D9: T1-4 | E9: =E8+N8 -> 1009 | N9: 4
B10: 5 | C10: 路线平纵面图 | D10: T1-5 | E10: =E9+N9 -> 1013 | N10: 229
B11: 6 | C11: 公路平面总体设计图 | D11: T1-6 | E11: =E10+N10 -> 1242 | N11: 228

Sheet 第二篇路线
B1: 本 册 目 录
B3: 序号 | C3: 图表名称 | D3: 图号 | E3: 页码 | F3: 备注 | H3: 序号 | I3: 图表名称 | J3: 图号 | K3: 页码 | L3: 备注
C4: 第七分册
C5: 第二篇 路线设计 | N5: 228
B6: 1 | C6: 路线平面图 | D6: T2-1 | E6: =N5+第一篇总体路线!E11 -> 1470 | N6: 227
B7: 2 | C7: 路线纵断面图 | D7: T2-2 | E7: =E6+N6 -> 1697 | N7: 227
B8: 3
B9: 4
B10: 5
B11: 6
B12: 7
B13: 8
B14: 9
B15: 10
B16: 11
B17: 12
B18: 13
B19: 14
... B30: 25

Sheet 第二篇路线 (2)
B1: 本 册 目 录
B3: 序号 | C3: 图表名称 | D3: 图号 | E3: 页码 | F3: 备注 | H3: 序号 | I3: 图表名称 | J3: 图号 | K3: 页码 | L3: 备注
C4: 第八分册
C5: 第二篇 路线设计 | N5: 227
B6: 1 | C6: 直线、曲线及转角表 | D6: T2-3 | E6: =N5+第二篇路线!E7 -> 1924 | N6: 70
B7: 2 | C7: 纵坡、竖曲线表 | D7: T2-4 | E7: =E6+N6 -> 1994 | N7: 38
B8: 3 | C8: 公路用地表 | D8: T2-5 | E8: =E7+N7 -> 2032 | N8: 7
B9: 4 | C9: 公路用地图 | D9: T2-6 | E9: =E8+N8 -> 2039 | N9: 198
B10: 5 | C10: 赔偿树木及青苗数量表 | D10: T2-7 | E10: =E9+N9 -> 2237 | N10: 7
B11: 6 | C11: 拆迁建筑物表 | D11: T2-8 | E11: =E10+N10 -> 2244 | N11: 1
B12: 7 | C12: 拆迁电力电讯及其他管线设施表 | D12: T2-9 | E12: =E11+N11 -> 2245 | N12: 1
B13: 8 | C13: 路线逐桩坐标表 | D13: T2-10 | E13: =E12+N12 -> 2246 | N13: 77
B14: 9 | C14: 安全设施 | D14: T2-11
B15: (1) | C15: 区域路网交通标志布置图 | D15: T2-11-1 | E15: =E13+N13 -> 2323 | N15: 1
B16: (2) | C16: 安全设施工程数量汇总表 | D16: T2-11-2 | E16: =E15+N15 -> 2324 | N16: 14
B17: (3) | C17: 标志、标线平面布置图 | D17: T2-11-3 | E17: =E16+N16 -> 2338 | N17: 70

Sheet 第二篇路线 (3)
B1: 本 册 目 录
B3: 序号 | C3: 图表名称 | D3: 图号 | E3: 页码 | F3: 备注 | H3: 序号 | I3: 图表名称 | J3: 图号 | K3: 页码 | L3: 备注
C4: 第九分册
C5: 第二篇 路线设计
B6: 9 | C6: 安全设施 | D6: T2-11 | N6: 70
B7: (3) | C7: 标志、标线平面布置图 | D7: T2-11-3 | E7: =N6+'第二篇路线 (2)'!E17 -> 2408 | N7: 162
B8: (4) | C8: 标志设置一览表 | D8: T2-11-4 | E8: =E7+N7 -> 2570 | N8: 122
B9: (5) | C9: 标线设置一览表 | D9: T2-11-5 | E9: =E8+N8 -> 2692 | N9: 6
B10: (6) | C10: 立面标记设置一览表 | D10: T2-11-6 | E10: =E9+N9 -> 2698 | N10: 3
B11: (7) | C11: 突起路标（路钮）设置一览表 | D11: T2-11-7 | E11: =E10+N10 -> 2701 | N11: 3
B12: (8) | C12: 波形护栏设置一览表 | D12: T2-11-8 | E12: =E11+N11 -> 2704 | N12: 34
B13: (9) | C13: 混凝土护栏设置一览表 | D13: T2-11-9 | E13: =E12+N12 -> 2738 | N13: 2
B14: (10) | C14: 轮廓标设置一览表 | D14: T2-11-10 | E14: =E13+N13 -> 2740 | N14: 4
B15: (11) | C15: 反光镜设置一览表 | D15: T2-11-11 | E15: =E14+N14 -> 2744 | N15: 3
B16: (12) | C16: 反光环设置一览表 | D16: T2-11-12 | E16: =E15+N15 -> 2747 | N16: 2
B17: (13) | C17: 道口标柱设置一览表 | D17: T2-11-13 | E17: =E16+N16 -> 2749 | N17: 3
B18: (14) | C18: 标志版面图 | D18: T2-11-14 | E18: =E17+N17 -> 2752 | N18: 11
B19: (15) | C19: 单柱式标志结构图 | D19: T2-11-15 | E19: =E18+N18 -> 2763 | N19: 27
... B31: (27) | C31: 反光镜安装示意图 | D31: T2-11-27 | E31: =E30+N30 -> 2847 | N31: 1

Sheet 第三篇 路基路面
B1: 本 册 目 录
B3: 序号 | C3: 图表名称 | D3: 图号 | E3: 页码 | F3: 备注 | H3: 序号 | I3: 图表名称 | J3: 图号 | K3: 页码 | L3: 备注
C4: 第十分册
C5: 第三篇 路基、路面 | N5: 1
B6: 1 | C6: 路基标准横断面图 | D6: T3-1 | E6: ='第二篇路线 (3)'!E31+'第三篇 路基路面'!N5 -> 2848 | N6: 1
B7: 2 | C7: 路基设计表 | D7: T3-2 | E7: =N6+E6 -> 2849 | N7: 350

Sheet 第三篇 路基路面 (2)
B1: 本 册 目 录
B3: 序号 | C3: 图表名称 | D3: 图号 | E3: 页码 | F3: 备注 | H3: 序号 | I3: 图表名称 | J3: 图号 | K3: 页码 | L3: 备注
C4: 第十一分册
C5: 第三篇 路基、路面 | N5: 350
B6: 1 | C6: 路基设计表 | D6: T3-1 | E6: =N5+'第三篇 路基路面'!E7 -> 3199 | N6: 367

Sheet 第三篇 路基路面 (3)
B1: 本 册 目 录
B3: 序号 | C3: 图表名称 | D3: 图号 | E3: 页码 | F3: 备注 | H3: 序号 | I3: 图表名称 | J3: 图号 | K3: 页码 | L3: 备注
C4: 第十二分册
C5: 第三篇 路基、路面 | N5: 367
B6: 1 | C6: 路基横断面图设计图 | D6: T3-3 | E6: =N5+'第三篇 路基路面 (2)'!E6 -> 3566 | N6: 480

Sheet 第三篇 路基路面 (4)
B1: 本 册 目 录
B3: 序号 | C3: 图表名称 | D3: 图号 | E3: 页码 | F3: 备注 | H3: 序号 | I3: 图表名称 | J3: 图号 | K3: 页码 | L3: 备注
C4: 第十三分册
C5: 第三篇 路基、路面 | N5: 480
B6: 1 | C6: 路基横断面图设计图 | D6: T3-3 | E6: =N5+'第三篇 路基路面 (3)'!E6 -> 4046 | N6: 480

Sheet 第三篇 路基路面 (5)
B1: 本 册 目 录
B3: 序号 | C3: 图表名称 | D3: 图号 | E3: 页码 | F3: 备注 | H3: 序号 | I3: 图表名称 | J3: 图号 | K3: 页码 | L3: 备注
C4: 第十四分册
C5: 第三篇 路基、路面 | N5: 480
B6: 1 | C6: 路基横断面图设计图 | D6: T3-3 | E6: =N5+'第三篇 路基路面 (4)'!E6 -> 4526 | N6: 480

Sheet 第三篇 路基路面 (6)
B1: 本 册 目 录
B3: 序号 | C3: 图表名称 | D3: 图号 | E3: 页码 | F3: 备注 | H3: 序号 | I3: 图表名称 | J3: 图号 | K3: 页码 | L3: 备注
C4: 第十五分册
C5: 第三篇 路基、路面 | N5: 480
B6: 1 | C6: 路基横断面图设计图 | D6: T3-3 | E6: =N5+'第三篇 路基路面 (5)'!E6 -> 5006 | N6: 480

Sheet 第三篇 路基路面 (7)
B1: 本 册 目 录
B3: 序号 | C3: 图表名称 | D3: 图号 | E3: 页码 | F3: 备注 | H3: 序号 | I3: 图表名称 | J3: 图号 | K3: 页码 | L3: 备注
C4: 第十六分册
C5: 第三篇 路基、路面 | N5: 480
B6: 1 | C6: 路基横断面图设计图 | D6: T3-3 | E6: =N5+'第三篇 路基路面 (6)'!E6 -> 5486 | N6: 271
B7: 2 | C7: 一般路基设计图 | D7: T3-4 | E7: =N6+E6 -> 5757 | N7: 3
B8: 3 | C8: 超高方式图 | D8: T3-5 | E8: =N7+E7 -> 5760 | N8: 1
B9: 4 | C9: 低填浅挖路基处理工程数量表 | D9: T3-6 | E9: =N8+E8 -> 5761 | N9: 8
B10: 5 | C10: 低填浅挖路基处理设计图 | D10: T3-7 | E10: =N9+E9 -> 5769 | N10: 1
B11: 6 | C11: 高填深挖路基工程数量表 | D11: T3-8 | E11: =N10+E10 -> 5770 | N11: 5
B12: 7 | C12: 高填深挖路基设计图 | D12: T3-9 | E12: =N11+E11 -> 5775 | N12: 37
B13: 8 | C13: 桥头路基处理工程数量表 | D13: T3-10 | E13: =N12+E12 -> 5812 | N13: 4
B14: 9 | C14: 桥头路基处理设计图 | D14: T3-11 | E14: =N13+E13 -> 5816 | N14: 1
B15: 10 | C15: 陡坡路堤或填挖交界处理工程数量表 | D15: T3-12 | E15: =N14+E14 -> 5817 | N15: 35
B16: 11 | C16: 陡坡路堤或填挖交界处理设计图 | D16: T3-13 | E16: =N15+E15 -> 5852 | N16: 2
B17: 12 | C17: 特殊（工点）路基设计工程数量表 | D17: T3-14 | E17: =N16+E16 -> 5854 | N17: 3
B18: 13 | C18: 特殊（工点）路基设计图 | D18: T3-15 | E18: =N17+E17 -> 5857 | N18: 24
B19: 14 | C19: 路基土石方计算表 | D19: T3-16 | E19: =N18+E18 -> 5881 | N19: 70
B20: 15
B21: 16
B22: 17
B23: 18
B24: 19
B25: 20
B26: 21
B27: 22
B28: 23
B29: 24
B30: 25

Sheet 第三篇 路基路面 (8)
B1: 本 册 目 录
B3: 序号 | C3: 图表名称 | D3: 图号 | E3: 页码 | F3: 备注 | H3: 序号 | I3: 图表名称 | J3: 图号 | K3: 页码 | L3: 备注
C4: 第十七分册
C5: 第三篇 路基、路面 | N5: 70
B6: 1 | C6: 路基土石方计算表 | D6: T3-16 | E6: =N5+'第三篇 路基路面 (7)'!E19 -> 5951 | N6: 480
B7: 2
B8: 3
B9: 4
B10: 5
B11: 6
B12: 7
B13: 8
B14: 9
B15: 10
B16: 11
B17: 12
B18: 13
... B30: 25

Sheet 第三篇 路基路面 (9)
B1: 本 册 目 录
B3: 序号 | C3: 图表名称 | D3: 图号 | E3: 页码 | F3: 备注 | H3: 序号 | I3: 图表名称 | J3: 图号 | K3: 页码 | L3: 备注
C4: 第十八分册
C5: 第三篇 路基、路面 | N5: 480
B6: 1 | C6: 路基土石方计算表 | D6: T3-16 | E6: =N5+'第三篇 路基路面 (8)'!E6 -> 6431 | N6: 224
B7: 2 | C7: 路基每公里土石方数量表 | D7: T3-17 | E7: =N6+E6 -> 6655 | N7: 8
B8: 3 | C8: 取土坑（场）、弃土堆（场）一览表 | D8: T3-18 | E8: =N7+E7 -> 6663 | N8: 3
B9: 4 | C9: 取土坑（场）、弃土堆（场）设计图 | D9: T3-19 | E9: =N8+E8 -> 6666 | N9: 25
B10: 5 | C10: 路基防护工程数量表 | D10: T3-20 | E10: =N9+E9 -> 6691 | N10: 86
B11: 6 | C11: 路基防护工程设计图 | D11: T3-21 | E11: =N10+E10 -> 6777 | N11: 20
B12: 7 | C12: 路面工程数量表 | D12: T3-22 | E12: =N11+E11 -> 6797 | N12: 12
B13: 8 | C13: 路面结构设计图 | D13: T3-23 | E13: =N12+E12 -> 6809 | N13: 10
B14: 9 | C14: 路基、路面排水工程数量表 | D14: T3-24 | E14: =N13+E13 -> 6819 | N14: 78
B15: 10 | C15: 路基、路面排水工程设计图 | D15: T3-25 | E15: =N14+E14 -> 6897 | N15: 5

Sheet 第四篇 桥梁
B1: 本 册 目 录
B3: 序号 | C3: 图表名称 | D3: 图号 | E3: 页码 | F3: 备注 | H3: 序号 | I3: 图表名称 | J3: 图号 | K3: 页码 | L3: 备注
C4: 第十九分册 | H4: (3) | I4: 热米1号大桥 全桥主要工程数量表 | J4: T4-4-3-11 | K4: =E37+N37 -> 6971 | O4: 1
C5: 第四篇 桥梁、涵洞 | H5: (4) | I5: 热米1号大桥 梁板平面布置图 | J5: T4-4-3-12 | K5: =K4+O4 -> 6972 | N5: 5 | O5: 2
B6: 1 | C6: 沿线水系分布图 | D6: T4-1 | E6: =N5+'第三篇 路基路面 (9)'!E15 -> 6902 | H6: (5) | I6: 热米1号大桥 上部构造标准横断面图 | J6: T4-4-3-13 | K6: =K5+O5 -> 6974 | N6: 15 | O6: 1
B7: 2 | C7: 大、中桥桥梁表 | D7: T4-2 | E7: =E6+N6 -> 6917 | H7: (6) | I7: 热米1号大桥 T梁一般构造图 | J7: T4-4-3-14 | K7: =K6+O6 -> 6975 | N7: 1 | O7: 2
B8: 3 | C8: 大、中桥桥梁主要工程数量表 | D8: T4-3 | E8: =E7+N7 -> 6918 | H8: (7) | I8: 热米1号大桥 T梁预应力钢束布置图 | J8: T4-4-3-15 | K8: =K7+O7 -> 6977 | N8: 1 | O8: 2
C9: 设计图表 | D9: T4-4 | H9: (8) | I9: 热米1号大桥 梁端封锚钢筋布置图 | J9: T4-4-3-16 | K9: =K8+O8 -> 6979 | O9: 1
B10: 4 | C10: 诺村1号大桥 | D10: T4-4-1 | H10: (9) | I10: 热米1号大桥 梁端锚下钢筋布置图 | J10: T4-4-3-17 | K10: =K9+O9 -> 6980 | O10: 2
B11: (1) | C11: 诺村1号大桥 桥位平面布置图 | D11: T4-4-1-1 | E11: =E8+N8 -> 6919 | H11: (10) | I11: 热米1号大桥 梁肋钢筋布置图 | J11: T4-4-3-18 | K11: =K10+O10 -> 6982 | N11: 1 | O11: 2
B12: (2) | C12: 诺村1号大桥 工程地质纵断面图 | D12: T4-4-1-2 | E12: =E11+N11 -> 6920 | H12: (11) | I12: 热米1号大桥 翼板钢筋布置图 | J12: T4-4-3-19 | K12: =K11+O11 -> 6984 | N12: 1 | O12: 5
B13: (3) | C13: 诺村1号大桥 桥型布置图 | D13: T4-4-1-3 | E13: =E12+N12 -> 6921 | H13: (12) | I13: 热米1号大桥 端横隔梁钢筋布置 | J13: T4-4-3-20 | K13: =K12+O12 -> 6989 | N13: 1 | O13: 2
B14: (4) | C14: 诺村1号大桥 全桥主要工程数量表 | D14: T4-4-1-4 | E14: =E13+N13 -> 6922 | H14: (13) | I14: 热米1号大桥 中横隔梁钢筋布置图 | J14: T4-4-3-21 | K14: =K13+O13 -> 6991 | N14: 1 | O14: 1
B15: (5) | C15: 诺村1号大桥 梁板平面布置图 | D15: T4-4-1-5 | E15: =E14+N14 -> 6923 | H15: (14) | I15: 热米1号大桥 腹板加厚段中横隔梁钢筋布置图 | J15: T4-4-3-22 | K15: =K14+O14 -> 6992 | N15: 1 | O15: 1
B16: (6) | C16: 诺村1号大桥 桥台一般构造图 | D16: T4-4-1-6 | E16: =E15+N15 -> 6924 | H16: (15) | I16: 热米1号大桥 桥台一般构造图 | J16: T4-4-3-23 | K16: =K15+O15 -> 6993 | N16: 2 | O16: 2
B17: (7) | C17: 诺村1号大桥 桥墩一般构造图 | D17: T4-4-1-7 | E17: =E16+N16 -> 6926 | H17: (16) | I17: 热米1号大桥 桥墩一般构造图 | J17: T4-4-3-24 | K17: =K16+O16 -> 6995 | N17: 1 | O17: 8
B18: 5 | C18: 诺村2号大桥 | D18: T4-4-2 | H18: (17) | I18: 热米1号大桥 桥墩桩柱钢筋构造图 | J18: T4-4-3-25 | K18: =K17+O17 -> 7003 | O18: 4
B19: (1) | C19: 诺村2号大桥 桥位平面布置图 | D19: T4-4-2-1 | E19: =E17+N17 -> 6927 | H19: (18) | I19: 热米1号大桥 桥墩墩柱系梁钢筋构造图 | J19: T4-4-3-26 | K19: =K18+O18 -> 7007 | N19: 2 | O19: 3
B20: (2) | C20: 诺村2号大桥 工程地质纵断面图 | D20: T4-4-2-2 | E20: =E19+N19 -> 6929 | H20: (19) | I20: 热米1号大桥 桥墩桩基系梁钢筋构造图 | J20: T4-4-3-27 | K20: =K19+O19 -> 7010 | N20: 2 | O20: 4
B21: (3) | C21: 诺村2号大桥 桥型布置图 | D21: T4-4-2-3 | E21: =E20+N20 -> 6931 | H21: (20) | I21: 热米1号大桥 桥墩承台钢筋构造图 | J21: T4-4-3-28 | K21: =K20+O20 -> 7014 | N21: 2 | O21: 2
B22: (4) | C22: 诺村2号大桥 全桥主要工程数量表 | D22: T4-4-2-4 | E22: =E21+N21 -> 6933 | H22: 7 | I22: 热米1号大桥 桥墩承台桩基钢筋构造图 | J22: T4-4-3-29 | K22: =K21+O21 -> 7016 | N22: 1 | O22: 2
B23: (5) | C23: 诺村2号大桥 桥台一般构造图 | D23: T4-4-2-5 | E23: =E22+N22 -> 6934 | H23: (1) | I23: 热米2号大桥 | J23: T4-4-4 | N23: 2
B24: (6) | C24: 诺村2号大桥 桥墩一般构造图 | D24: T4-4-2-6 | E24: =E23+N23 -> 6936 | H24: (2) | I24: 热米2号大桥 桥位平面布置图 | J24: T4-4-4-1 | K24: =K22+O22 -> 7018 | N24: 3 | O24: 3
B25: 6 | C25: 热米1号大桥 | D25: T4-4-3 | H25: (3) | I25: 热米2号大桥 工程地质纵断面图 | J25: T4-4-4-2 | K25: =K24+O24 -> 7021 | O25: 3
B26: (1) | C26: 热米1号大桥（初设方案） | D26: T4-4-3-1～8 | H26: (4) | I26: 热米2号大桥 桥型布置图 | J26: T4-4-4-3 | K26: =K25+O25 -> 7024 | O26: 3
B27: (2) | C27: 热米1号大桥 桥位平面布置图 | D27: T4-4-3-1 | E27: =E24+N24 -> 6939 | H27: (5) | I27: 热米2号大桥 全桥主要工程数量表 | J27: T4-4-4-4 | K27: =K26+O26 -> 7027 | N27: 2 | O27: 1
B28: (3) | C28: 热米1号大桥 工程地质纵断面图 | D28: T4-4-3-2 | E28: =E27+N27 -> 6941 | H28: (6) | I28: 热米2号大桥 梁板平面布置图 | J28: T4-4-4-5 | K28: =K27+O27 -> 7028 | N28: 3 | O28: 1
B29: (4) | C29: 热米1号大桥 桥型布置图 | D29: T4-4-3-3 | E29: =E28+N28 -> 6944 | H29: (7) | I29: 热米2号大桥 桥台一般构造图 | J29: T4-4-4-6 | K29: =K28+O28 -> 7029 | N29: 4 | O29: 2
B30: (5) | C30: 热米1号大桥 全桥主要工程数量表 | D30: T4-4-3-4 | E30: =E29+N29 -> 6948 | H30: 8 | I30: 热米2号大桥 桥墩一般构造图 | J30: T4-4-4-7 | K30: =K29+O29 -> 7031 | N30: 1 | O30: 5
B31: (6) | C31: 热米1号大桥 梁板平面布置图 | D31: T4-4-3-5 | E31: =E30+N30 -> 6949 | H31: (1) | I31: 达孜中桥 | J31: T4-4-5 | N31: 3
B32: (7) | C32: 热米1号大桥 连续板一般构造图 | D32: T4-4-3-6 | E32: =E31+N31 -> 6952 | H32: (2) | I32: 达孜中桥 桥位平面布置图 | J32: T4-4-5-1 | K32: =K30+O30 -> 7036 | N32: 2 | O32: 1
B33: (8) | C33: 热米1号大桥 桥台一般构造图 | D33: T4-4-3-7 | E33: =E32+N32 -> 6954 | H33: (3) | I33: 达孜中桥 工程地质纵断面图 | J33: T4-4-5-2 | K33: =K32+O32 -> 7037 | N33: 2 | O33: 1
B34: (9) | C34: 热米1号大桥 桥墩一般构造图 | D34: T4-4-3-8 | E34: =E33+N33 -> 6956 | H34: (4) | I34: 达孜中桥 桥型布置图 | J34: T4-4-5-3 | K34: =K33+O33 -> 7038 | N34: 9 | O34: 1
C35: 热米1号大桥（优化方案） | D35: T4-4-3-9～13 | H35: (5) | I35: 达孜中桥 全桥主要工程数量表 | J35: T4-4-5-4 | K35: =K34+O34 -> 7039 | O35: 1
B36: (1) | C36: 热米1号大桥 桥位平面布置图 | D36: T4-4-3-9 | E36: =E34+N34 -> 6965 | H36: (6) | I36: 达孜中桥 桥台一般构造图 | J36: T4-4-5-5 | K36: =K35+O35 -> 7040 | N36: 2 | O36: 1
B37: (2) | C37: 热米1号大桥 桥型布置图 | D37: T4-4-3-10 | E37: =E36+N36 -> 6967 | H37: (7) | I37: 达孜中桥 桥墩一般构造图 | J37: T4-4-5-6 | K37: =K36+O36 -> 7041 | N37: 4 | O37: 2
B39: 本 册 目 录
B41: 序号 | C41: 图表名称 | D41: 图号 | E41: 页码 | F41: 备注 | H41: 序号 | I41: 图表名称 | J41: 图号 | K41: 页码 | L41: 备注
C42: 第十九分册 | H42: (2) | I42: 下却2#桥 工程地质纵断面图 | J42: T4-4-10-2 | K42: =E75+N75 -> 7081 | O42: 1
C43: 第四篇 桥梁、涵洞 | H43: (3) | I43: 下却2#桥 桥型布置图 | J43: T4-4-10-3 | K43: =K42+O42 -> 7082 | O43: 1
B44: 9 | C44: 江中大桥 | D44: T4-4-6 | H44: (4) | I44: 下却2#桥 全桥主要工程数量表 | J44: T4-4-10-4 | K44: =K43+O43 -> 7083 | O44: 1
B45: (1) | C45: 江中大桥 桥位平面布置图 | D45: T4-4-6-1 | E45: =K37+O37 -> 7043 | H45: (5) | I45: 下却2#桥 桥台一般构造图 | J45: T4-4-10-5 | K45: =K44+O44 -> 7084 | N45: 1 | O45: 2
B46: (2) | C46: 江中大桥 工程地质纵断面图 | D46: T4-4-6-2 | E46: =E45+N45 -> 7044 | H46: (6) | I46: 下却2#桥 桥墩一般构造图 | J46: T4-4-10-6 | K46: =K45+O45 -> 7086 | N46: 1 | O46: 2
B47: (3) | C47: 江中大桥 桥型布置图 | D47: T4-4-6-3 | E47: =E46+N46 -> 7045 | H47: 14 | I47: 下却3#桥 | J47: T4-4-11 | N47: 2
B48: (4) | C48: 江中大桥 全桥主要工程数量表 | D48: T4-4-6-4 | E48: =E47+N47 -> 7047 | H48: (1) | I48: 下却3#桥 桥位平面布置图 | J48: T4-4-11-1 | K48: =K46+O46 -> 7088 | N48: 1 | O48: 1
B49: (5) | C49: 江中大桥 桥台一般构造图 | D49: T4-4-6-5 | E49: =E48+N48 -> 7048 | H49: (2) | I49: 下却3#桥 工程地质纵断面图 | J49: T4-4-11-2 | K49: =K48+O48 -> 7089 | N49: 2 | O49: 1
B50: (6) | C50: 江中大桥 桥墩一般构造图 | D50: T4-4-6-6 | E50: =E49+N49 -> 7050 | H50: (3) | I50: 下却3#桥 桥型布置图 | J50: T4-4-11-3 | K50: =K49+O49 -> 7090 | N50: 2 | O50: 1
B51: 10 | C51: 直美1号大桥 | D51: T4-4-7 | H51: (4) | I51: 下却3#桥 全桥主要工程数量表 | J51: T4-4-11-4 | K51: =K50+O50 -> 7091 | O51: 1
B52: (1) | C52: 直美1号大桥 桥位平面布置图 | D52: T4-4-7-1 | E52: =E50+N50 -> 7052 | H52: (5) | I52: 下却3#桥 桥台一般构造图 | J52: T4-4-11-5 | K52: =K51+O51 -> 7092 | N52: 1 | O52: 2
B53: (2) | C53: 直美1号大桥 工程地质纵断面图 | D53: T4-4-7-2 | E53: =E52+N52 -> 7053 | H53: (6) | I53: 下却3#桥 桥墩一般构造图 | J53: T4-4-11-6 | K53: =K52+O52 -> 7094 | N53: 1 | O53: 2
B54: (3) | C54: 直美1号大桥 桥型布置图 | D54: T4-4-7-3 | E54: =E53+N53 -> 7054 | H54: 15 | I54: 下却4#桥 | J54: T4-4-12 | N54: 1
B55: (4) | C55: 直美1号大桥 全桥主要工程数量表 | D55: T4-4-7-4 | E55: =E54+N54 -> 7055 | H55: (1) | I55: 下却4#桥 桥位平面布置图 | J55: T4-4-12-1 | K55: =K53+O53 -> 7096 | N55: 1 | O55: 1
B56: (5) | C56: 直美1号大桥 箱梁一般构造图 | D56: T4-4-7-5 | E56: =E55+N55 -> 7056 | H56: (2) | I56: 下却4#桥 工程地质纵断面图 | J56: T4-4-12-2 | K56: =K55+O55 -> 7097 | N56: 2 | O56: 1
B57: (6) | C57: 直美1号大桥 预应力钢束布置图 | D57: T4-4-7-6 | E57: =E56+N56 -> 7058 | H57: (3) | I57: 下却4#桥 桥型布置图 | J57: T4-4-12-3 | K57: =K56+O56 -> 7098 | N57: 4 | O57: 1
B58: (7) | C58: 直美1号大桥 桥台一般构造图 | D58: T4-4-7-7 | E58: =E57+N57 -> 7062 | H58: (4) | I58: 下却4#桥 全桥主要工程数量表 | J58: T4-4-12-4 | K58: =K57+O57 -> 7099 | N58: 2 | O58: 1
B59: (8) | C59: 直美1号大桥 桥墩一般构造图 | D59: T4-4-7-8 | E59: =E58+N58 -> 7064 | H59: (5) | I59: 下却4#桥 梁板平面布置图 | J59: T4-4-12-5 | K59: =K58+O58 -> 7100 | N59: 1 | O59: 1
B60: 11 | C60: 直美2号大桥 | D60: T4-4-8 | H60: (6) | I60: 下却4#桥 桥台一般构造图 | J60: T4-4-12-6 | K60: =K59+O59 -> 7101 | O60: 2
B61: (1) | C61: 直美2号大桥 桥位平面布置图 | D61: T4-4-8-1 | E61: =E59+N59 -> 7065 | H61: (7) | I61: 下却4#桥 桥墩一般构造图 | J61: T4-4-12-7 | K61: =K60+O60 -> 7103 | N61: 1 | O61: 1
B62: (2) | C62: 直美2号大桥 工程地质纵断面图 | D62: T4-4-8-2 | E62: =E61+N61 -> 7066 | H62: 16 | I62: 嘎当沟大桥 | J62: T4-4-13 | N62: 1
B63: (3) | C63: 直美2号大桥 桥型布置图 | D63: T4-4-8-3 | E63: =E62+N62 -> 7067 | H63: (1) | I63: 嘎当沟大桥(推荐方案) 桥位平面布置图 | J63: T4-4-13-1 | K63: =K61+O61 -> 7104 | N63: 1 | O63: 1
B64: (4) | C64: 直美2号大桥 全桥主要工程数量表 | D64: T4-4-8-4 | E64: =E63+N63 -> 7068 | H64: (2) | I64: 嘎当沟大桥(推荐方案) 工程地质纵断面图 | J64: T4-4-13-2 | K64: =K63+O63 -> 7105 | N64: 1 | O64: 2
B65: (5) | C65: 直美2号大桥 桥台一般构造图 | D65: T4-4-8-5 | E65: =E64+N64 -> 7069 | H65: (3) | I65: 嘎当沟大桥(推荐方案) 桥型布置图 | J65: T4-4-13-3 | K65: =K64+O64 -> 7107 | N65: 2 | O65: 3
B66: (6) | C66: 直美2号大桥 桥墩一般构造图 | D66: T4-4-8-6 | E66: =E65+N65 -> 7071 | H66: (4) | I66: 嘎当沟大桥(推荐方案) 全桥主要工程数量表 | J66: T4-4-13-4 | K66: =K65+O65 -> 7110 | N66: 1 | O66: 1
B67: 12 | C67: 下却1#桥 | D67: T4-4-9 | H67: (5) | I67: 嘎当沟大桥(推荐方案) 主桥箱梁一般构造图 | J67: T4-4-13-5 | K67: =K66+O66 -> 7111 | O67: 8
B68: (1) | C68: 下却1#桥 桥位平面布置图 | D68: T4-4-9-1 | E68: =E66+N66 -> 7072 | H68: (6) | I68: 嘎当沟大桥(推荐方案) 主桥箱梁纵向预应力钢束布置图 | J68: T4-4-13-6 | K68: =K67+O67 -> 7119 | N68: 1 | O68: 9
B69: (2) | C69: 下却1#桥 工程地质纵断面图 | D69: T4-4-9-2 | E69: =E68+N68 -> 7073 | H69: (7) | I69: 嘎当沟大桥(推荐方案) 主桥箱梁竖向预应力钢束布置图 | J69: T4-4-13-7 | K69: =K68+O68 -> 7128 | N69: 1 | O69: 3
B70: (3) | C70: 下却1#桥 桥型布置图 | D70: T4-4-9-3 | E70: =E69+N69 -> 7074 | H70: (8) | I70: 嘎当沟大桥(推荐方案) 桥台一般构造图 | J70: T4-4-13-8 | K70: =K69+O69 -> 7131 | N70: 1 | O70: 2
B71: (4) | C71: 下却1#桥 全桥主要工程数量表 | D71: T4-4-9-4 | E71: =E70+N70 -> 7075 | H71: (9) | I71: 嘎当沟大桥(推荐方案) 主墩一般构造图 | J71: T4-4-13-9 | K71: =K70+O70 -> 7133 | N71: 1 | O71: 1
B72: (5) | C72: 下却1#桥 桥台一般构造图 | D72: T4-4-9-5 | E72: =E71+N71 -> 7076 | H72: (10) | I72: 嘎当沟大桥(推荐方案) 过渡墩一般构造图 | J72: T4-4-13-10 | K72: =K71+O71 -> 7134 | N72: 2 | O72: 1
B73: (6) | C73: 下却1#桥 桥墩一般构造图 | D73: T4-4-9-6 | E73: =E72+N72 -> 7078 | H73: (11) | I73: 嘎当沟大桥(推荐方案) 引桥桥墩一般构造图 | J73: T4-4-13-11 | K73: =K72+O72 -> 7135 | N73: 2 | O73: 2
B74: 13 | C74: 下却2#桥 | D74: T4-4-10 | H74: (12) | I74: 嘎当沟大桥(推荐方案) 主桥箱梁概略施工流程图 | J74: T4-4-13-12 | K74: =K73+O73 -> 7137 | O74: 2
B75: (1) | C75: 下却2#桥 桥位平面布置图 | D75: T4-4-10-1 | E75: =E73+N73 -> 7080 | H75: (13) | I75: 嘎当沟大桥(推荐方案) 主桥箱梁概略施工进度表 | J75: T4-4-13-13 | K75: =K74+O74 -> 7139 | N75: 1 | O75: 1
B77: 本 册 目 录
B79: 序号 | C79: 图表名称 | D79: 图号 | E79: 页码 | F79: 备注 | H79: 序号 | I79: 图表名称 | J79: 图号 | K79: 页码 | L79: 备注
C80: 第十九分册
C81: 第四篇 桥梁、涵洞
B82: (14) | C82: 嘎当沟大桥(比较方案) 桥位平面布置图 | D82: T4-4-13-14 | E82: =K75+O75 -> 7140 | N82: 1
B83: (15) | C83: 嘎当沟大桥(比较方案) 工程地质纵断面图 | D83: T4-4-13-15 | E83: =E82+N82 -> 7141 | N83: 2
B84: (16) | C84: 嘎当沟大桥(比较方案) 桥型布置图 | D84: T4-4-13-16 | E84: =E83+N83 -> 7143 | N84: 3
B85: (17) | C85: 嘎当沟大桥(比较方案) 全桥主要工程数量表 | D85: T4-4-13-17 | E85: =E84+N84 -> 7146 | N85: 1
B86: (18) | C86: 嘎当沟大桥(比较方案) 主梁标准横断面 | D86: T4-4-13-18 | E86: =E85+N85 -> 7147 | N86: 1
B87: (19) | C87: 嘎当沟大桥(比较方案) 主梁节段划分图 | D87: T4-4-13-19 | E87: =E86+N86 -> 7148 | N87: 2
B88: (20) | C88: 嘎当沟大桥(比较方案) 主梁一般构造图 | D88: T4-4-13-20 | E88: =E87+N87 -> 7150 | N88: 1
B89: (21) | C89: 嘎当沟大桥(比较方案) 横联一般构造图 | D89: T4-4-13-21 | E89: =E88+N88 -> 7151 | N89: 2
B90: (22) | C90: 嘎当沟大桥(比较方案) 箱梁一般构造图 | D90: T4-4-13-22 | E90: =E89+N89 -> 7153 | N90: 4
B91: (23) | C91: 嘎当沟大桥(比较方案) 箱梁纵向预应力钢束布置图 | D91: T4-4-13-23 | E91: =E90+N90 -> 7157 | N91: 4
B92: (24) | C92: 嘎当沟大桥(比较方案) 桥台一般构造图 | D92: T4-4-13-24 | E92: =E91+N91 -> 7161 | N92: 2
B93: (25) | C93: 嘎当沟大桥(比较方案) 桥墩一般构造图 | D93: T4-4-13-25 | E93: =E92+N92 -> 7163 | N93: 6

Sheet 第四篇 桥梁 (2)
B1: 本 册 目 录
B3: 序号 | C3: 图表名称 | D3: 图号 | E3: 页码 | F3: 备注 | H3: 序号 | I3: 图表名称 | J3: 图号 | K3: 页码 | L3: 备注 | N3: 6
C4: 第二十分册 | H4: 21 | I4: 康萨1#桥 | J4: T4-4-18
C5: 第四篇 桥梁、涵洞 | H5: (1) | I5: 康萨1#桥 桥位平面布置图 | J5: T4-4-18-1 | K5: =E36+N36 -> 7214 | O5: 1
B6: 17 | C6: 仙沟大桥 | D6: T4-4-14 | H6: (2) | I6: 康萨1#桥 工程地质纵断面图 | J6: T4-4-18-2 | K6: =K5+O5 -> 7215 | O6: 1
B7: (1) | C7: 仙沟大桥 桥位平面布置图 | D7: T4-4-14-1 | E7: =N3+'第四篇 桥梁'!E93 -> 7169 | H7: (3) | I7: 康萨1#桥 桥型布置图 | J7: T4-4-18-3 | K7: =K6+O6 -> 7216 | N7: 1 | O7: 1
B8: (2) | C8: 仙沟大桥 工程地质纵断面图 | D8: T4-4-14-2 | E8: =E7+N7 -> 7170 | H8: (4) | I8: 康萨1#桥 全桥主要工程数量表 | J8: T4-4-18-4 | K8: =K7+O7 -> 7217 | N8: 1 | O8: 1
B9: (3) | C9: 仙沟大桥 桥型布置图 | D9: T4-4-14-3 | E9: =E8+N8 -> 7171 | H9: (5) | I9: 康萨1#桥 梁板平面布置图 | J9: T4-4-18-5 | K9: =K8+O8 -> 7218 | N9: 1 | O9: 1
B10: (4) | C10: 仙沟大桥 全桥主要工程数量表 | D10: T4-4-14-4 | E10: =E9+N9 -> 7172 | H10: (6) | I10: 康萨1#桥 桥台一般构造图 | J10: T4-4-18-6 | K10: =K9+O9 -> 7219 | N10: 1 | O10: 1
B11: (5) | C11: 仙沟大桥 桥台一般构造图 | D11: T4-4-14-5 | E11: =E10+N10 -> 7173 | H11: (7) | I11: 康萨1#桥 桥墩一般构造图 | J11: T4-4-18-7 | K11: =K10+O10 -> 7220 | N11: 1 | O11: 1
B12: (6) | C12: 仙沟大桥 桥墩一般构造图 | D12: T4-4-14-6 | E12: =E11+N11 -> 7174 | H12: 22 | I12: 康萨2#桥 | J12: T4-4-19 | N12: 3
B13: 18 | C13: 莫工中桥 | D13: T4-4-15 | H13: (1) | I13: 康萨2#桥 桥位平面布置图 | J13: T4-4-19-1 | K13: =K11+O11 -> 7221 | O13: 1
B14: (1) | C14: 莫工中桥 桥位平面布置图 | D14: T4-4-15-1 | E14: =E12+N12 -> 7177 | H14: (2) | I14: 康萨2#桥 工程地质纵断面图 | J14: T4-4-19-2 | K14: =K13+O13 -> 7222 | N14: 1 | O14: 1
B15: (2) | C15: 莫工中桥 工程地质纵断面图 | D15: T4-4-15-2 | E15: =E14+N14 -> 7178 | H15: (3) | I15: 康萨2#桥 桥型布置图 | J15: T4-4-19-3 | K15: =K14+O14 -> 7223 | N15: 1 | O15: 1
B16: (3) | C16: 莫工中桥 桥型布置图 | D16: T4-4-15-3 | E16: =E15+N15 -> 7179 | H16: (4) | I16: 康萨2#桥 全桥主要工程数量表 | J16: T4-4-19-4 | K16: =K15+O15 -> 7224 | N16: 1 | O16: 1
B17: (4) | C17: 莫工中桥 全桥主要工程数量表 | D17: T4-4-15-4 | E17: =E16+N16 -> 7180 | H17: (5) | I17: 康萨2#桥 梁板平面布置图 | J17: T4-4-19-5 | K17: =K16+O16 -> 7225 | N17: 1 | O17: 1
B18: (5) | C18: 莫工中桥 梁板平面布置图 | D18: T4-4-15-5 | E18: =E17+N17 -> 7181 | H18: (6) | I18: 康萨2#桥 桥台一般构造图 | J18: T4-4-19-6 | K18: =K17+O17 -> 7226 | N18: 1 | O18: 1
B19: (6) | C19: 莫工中桥 桥台一般构造图 | D19: T4-4-15-6 | E19: =E18+N18 -> 7182 | H19: (7) | I19: 康萨2#桥 桥墩一般构造图 | J19: T4-4-19-7 | K19: =K18+O18 -> 7227 | N19: 1 | O19: 3
B20: (7) | C20: 莫工中桥 桥墩一般构造图 | D20: T4-4-15-7 | E20: =E19+N19 -> 7183 | H20: 23 | I20: 龙安中桥 | J20: T4-4-20 | N20: 1
B21: 19 | C21: 才巴中桥 | D21: T4-4-16 | H21: (1) | I21: 龙安中桥 桥位平面布置图 | J21: T4-4-20-1 | K21: =K19+O19 -> 7230 | O21: 1
B22: (1) | C22: 才巴中桥 桥位平面布置图 | D22: T4-4-16-1 | E22: =E20+N20 -> 7184 | H22: (2) | I22: 龙安中桥 工程地质纵断面图 | J22: T4-4-20-2 | K22: =K21+O21 -> 7231 | N22: 1 | O22: 1
B23: (2) | C23: 才巴中桥 工程地质纵断面图 | D23: T4-4-16-2 | E23: =E22+N22 -> 7185 | H23: (3) | I23: 龙安中桥 桥型布置图 | J23: T4-4-20-3 | K23: =K22+O22 -> 7232 | N23: 1 | O23: 1
B24: (3) | C24: 才巴中桥 桥型布置图 | D24: T4-4-16-3 | E24: =E23+N23 -> 7186 | H24: (4) | I24: 龙安中桥 全桥主要工程数量表 | J24: T4-4-20-4 | K24: =K23+O23 -> 7233 | N24: 1 | O24: 1
B25: (4) | C25: 才巴中桥 全桥主要工程数量表 | D25: T4-4-16-4 | E25: =E24+N24 -> 7187 | H25: (5) | I25: 龙安中桥 梁板平面布置图 | J25: T4-4-20-5 | K25: =K24+O24 -> 7234 | N25: 1 | O25: 1
B26: (5) | C26: 才巴中桥 箱梁一般构造图 | D26: T4-4-16-5 | E26: =E25+N25 -> 7188 | H26: (6) | I26: 龙安中桥 桥台一般构造图 | J26: T4-4-20-6 | K26: =K25+O25 -> 7235 | N26: 6 | O26: 1
B27: (6) | C27: 才巴中桥 箱梁预应力钢束布置图 | D27: T4-4-16-6 | E27: =E26+N26 -> 7194 | H27: (7) | I27: 龙安中桥 桥墩一般构造图 | J27: T4-4-20-7 | K27: =K26+O26 -> 7236 | N27: 5 | O27: 1
B28: (7) | C28: 才巴中桥 桥台一般构造图 | D28: T4-4-16-7 | E28: =E27+N27 -> 7199 | H28: 24 | I28: 扎村大桥 | J28: T4-4-21 | N28: 1
B29: (8) | C29: 才巴中桥 桥墩一般构造图 | D29: T4-4-16-8 | E29: =E28+N28 -> 7200 | H29: (1) | I29: 扎村大桥 桥位平面布置图 | J29: T4-4-21-1 | K29: =K27+O27 -> 7237 | N29: 1 | O29: 1
B30: 20 | C30: 森波大桥 | D30: T4-4-17 | H30: (2) | I30: 扎村大桥 工程地质纵断面图 | J30: T4-4-21-2 | K30: =K29+O29 -> 7238 | O30: 2
B31: (1) | C31: 森波大桥 桥位平面布置图 | D31: T4-4-17-1 | E31: =E29+N29 -> 7201 | H31: (3) | I31: 扎村大桥 桥型布置图 | J31: T4-4-21-3 | K31: =K30+O30 -> 7240 | N31: 1 | O31: 3
B32: (2) | C32: 森波大桥 工程地质纵断面图 | D32: T4-4-17-2 | E32: =E31+N31 -> 7202 | H32: (4) | I32: 扎村大桥 全桥主要工程数量表 | J32: T4-4-21-4 | K32: =K31+O31 -> 7243 | N32: 2 | O32: 1
B33: (3) | C33: 森波大桥 桥型布置图 | D33: T4-4-17-3 | E33: =E32+N32 -> 7204 | H33: (5) | I33: 扎村大桥 梁板平面布置图 | J33: T4-4-21-5 | K33: =K32+O32 -> 7244 | N33: 3 | O33: 2
B34: (4) | C34: 森波大桥 全桥主要工程数量表 | D34: T4-4-17-4 | E34: =E33+N33 -> 7207 | H34: (6) | I34: 扎村大桥 桥台一般构造图 | J34: T4-4-21-6 | K34: =K33+O33 -> 7246 | N34: 1 | O34: 2
B35: (5) | C35: 森波大桥 桥台一般构造图 | D35: T4-4-17-5 | E35: =E34+N34 -> 7208 | H35: (7) | I35: 扎村大桥 桥墩一般构造图 | J35: T4-4-21-7 | K35: =K34+O34 -> 7248 | N35: 2 | O35: 4
B36: (6) | C36: 森波大桥 桥墩一般构造图 | D36: T4-4-17-6 | E36: =E35+N35 -> 7210 | N36: 4
B41: 本 册 目 录
B43: 序号 | C43: 图表名称 | D43: 图号 | E43: 页码 | F43: 备注 | H43: 序号 | I43: 图表名称 | J43: 图号 | K43: 页码 | L43: 备注
C44: 第二十分册 | H44: (32) | I44: 扎村大桥（优化方案） 桥台桩基钢筋构造图 | J44: T4-4-22-32 | K44: =E77+N77 -> 7299 | O44: 1
C45: 第四篇 桥梁、涵洞 | H45: (33) | I45: 扎村大桥（优化方案） 桥台搭板一般构造图 | J45: T4-4-22-33 | K45: =K44+O44 -> 7300 | O45: 1
B46: 25 | C46: 扎村大桥（优化方案） | D46: T4-4-22 | H46: (34) | I46: 扎村大桥（优化方案） 桥台搭板钢筋构造图 | J46: T4-4-22-34 | K46: =K45+O45 -> 7301 | O46: 1
B47: (1) | C47: 扎村大桥（优化方案） 桥位平面布置图 | D47: T4-4-22-1 | E47: =K35+O35 -> 7252 | H47: 26 | I47: 工字荣大桥 | J47: T4-4-23 | N47: 1
B48: (2) | C48: 扎村大桥（优化方案） 工程地质纵断面图 | D48: T4-4-22-2 | E48: =E47+N47 -> 7253 | H48: (1) | I48: 工字荣大桥 桥位平面布置图 | J48: T4-4-23-01 | K48: =K46+O46 -> 7302 | N48: 2 | O48: 1
B49: (3) | C49: 扎村大桥（优化方案） 桥型布置图 | D49: T4-4-22-3 | E49: =E48+N48 -> 7255 | H49: (2) | I49: 工字荣大桥 工程地质纵断面图 | J49: T4-4-23-02 | K49: =K48+O48 -> 7303 | N49: 3 | O49: 1
B50: (4) | C50: 扎村大桥（优化方案） 全桥主要工程数量表 | D50: T4-4-22-4 | E50: =E49+N49 -> 7258 | H50: (3) | I50: 工字荣大桥 桥型布置图 | J50: T4-4-23-03 | K50: =K49+O49 -> 7304 | N50: 1 | O50: 1
B51: (5) | C51: 扎村大桥（优化方案） 标准横断面图 | D51: T4-4-22-5 | E51: =E50+N50 -> 7259 | H51: (4) | I51: 工字荣大桥 全桥主要工程数量表 | J51: T4-4-23-04 | K51: =K50+O50 -> 7305 | N51: 1 | O51: 1
B52: (6) | C52: 扎村大桥（优化方案） T梁一般构造图 | D52: T4-4-22-6 | E52: =E51+N51 -> 7260 | H52: (5) | I52: 工字荣大桥 桥墩一般构造图 | J52: T4-4-23-05 | K52: =K51+O51 -> 7306 | N52: 2 | O52: 3
B53: (7) | C53: 扎村大桥（优化方案） 预应力钢束布置图 | D53: T4-4-22-7 | E53: =E52+N52 -> 7262 | H53: (6) | I53: 工字荣大桥 桥台一般构造图 | J53: T4-4-23-06 | K53: =K52+O52 -> 7309 | N53: 2 | O53: 2
B54: (8) | C54: 扎村大桥（优化方案） 钢束定位钢筋布置图 | D54: T4-4-22-8 | E54: =E53+N53 -> 7264 | H54: 27 | I54: 新扎村大桥 | J54: T4-4-24 | N54: 3
B55: (9) | C55: 扎村大桥（优化方案） 梁肋钢筋布置图 | D55: T4-4-22-9 | E55: =E54+N54 -> 7267 | H55: (1) | I55: 新扎村大桥 桥位平面布置图 | J55: T4-4-24-01 | K55: =K53+O53 -> 7311 | N55: 2 | O55: 1
B56: (10) | C56: 扎村大桥（优化方案） T梁翼板钢筋布置图 | D56: T4-4-22-10 | E56: =E55+N55 -> 7269 | H56: (2) | I56: 新扎村大桥 工程地质纵断面图 | J56: T4-4-24-02 | K56: =K55+O55 -> 7312 | N56: 2 | O56: 1
B57: (11) | C57: 扎村大桥（优化方案） T梁梁端封锚钢筋布置图 | D57: T4-4-22-11 | E57: =E56+N56 -> 7271 | H57: (3) | I57: 新扎村大桥 桥型布置图 | J57: T4-4-24-03 | K57: =K56+O56 -> 7313 | N57: 1 | O57: 1
B58: (12) | C58: 扎村大桥（优化方案） T梁梁端锚下钢筋布置图 | D58: T4-4-22-12 | E58: =E57+N57 -> 7272 | H58: (4) | I58: 新扎村大桥 全桥主要工程数量表 | J58: T4-4-24-04 | K58: =K57+O57 -> 7314 | N58: 1 | O58: 1
B59: (13) | C59: 扎村大桥（优化方案） T梁端横隔梁钢筋布置图 | D59: T4-4-22-13 | E59: =E58+N58 -> 7273 | H59: (5) | I59: 新扎村大桥 桥台一般构造图 | J59: T4-4-24-05 | K59: =K58+O58 -> 7315 | N59: 1 | O59: 2
B60: (14) | C60: 扎村大桥（优化方案） T梁中横隔梁钢筋布置图 | D60: T4-4-22-14 | E60: =E59+N59 -> 7274 | H60: (6) | I60: 新扎村大桥 桥墩一般构造图 | J60: T4-4-24-06 | K60: =K59+O59 -> 7317 | N60: 1 | O60: 1
B61: (15) | C61: 扎村大桥（优化方案） 桥墩一般构造图 | D61: T4-4-22-15 | E61: =E60+N60 -> 7275 | H61: 28 | I61: 岗江小桥 | J61: T4-4-25 | N61: 2
B62: (16) | C62: 扎村大桥（优化方案） 桥墩盖梁钢筋构造图 | D62: T4-4-22-16 | E62: =E61+N61 -> 7277 | H62: (1) | I62: 岗江小桥 桥型布置图 | J62: T4-4-25-1 | K62: =K60+O60 -> 7318 | N62: 2 | O62: 1
B63: (17) | C63: 扎村大桥（优化方案） 桥墩垫石及挡块一般构造图 | D63: T4-4-22-17 | E63: =E62+N62 -> 7279 | H63: (2) | I63: 岗江小桥全桥工程数量表 | J63: T4-4-25-2 | K63: =K62+O62 -> 7319 | N63: 1 | O63: 1
B64: (18) | C64: 扎村大桥（优化方案） 桥墩垫石及挡块钢筋构造图 | D64: T4-4-22-18 | E64: =E63+N63 -> 7280 | H64: 29 | I64: 扎村小桥 | J64: T4-4-26 | N64: 1
B65: (19) | C65: 扎村大桥（优化方案） 桥墩墩柱钢筋构造图 | D65: T4-4-22-19 | E65: =E64+N64 -> 7281 | H65: (1) | I65: 扎村小桥 桥型布置图 | J65: T4-4-26-1 | K65: =K63+O63 -> 7320 | N65: 2 | O65: 1
B66: (20) | C66: 扎村大桥（优化方案） 墩柱系梁钢筋构造图 | D66: T4-4-22-20 | E66: =E65+N65 -> 7283 | H66: (2) | I66: 扎村小桥全桥工程数量表 | J66: T4-4-26-2 | K66: =K65+O65 -> 7321 | N66: 2 | O66: 1
B67: (21) | C67: 扎村大桥（优化方案） 桩基系梁钢筋构造图 | D67: T4-4-22-21 | E67: =E66+N66 -> 7285 | H67: 30 | I67: 通用图 | J67: T4-5 | N67: 2
B68: (22) | C68: 扎村大桥（优化方案） 桥墩桩基钢筋构造图 | D68: T4-4-22-22 | E68: =E67+N67 -> 7287 | H68: (1) | I68: 8m宽25mT梁（0°）上部构造标准横断面图 | J68: T4-5-1 | K68: =K66+O66 -> 7322 | N68: 2 | O68: 1
B69: (23) | C69: 扎村大桥（优化方案） 桥台一般构造图 | D69: T4-4-22-23 | E69: =E68+N68 -> 7289 | H69: (2) | I69: 8m宽25mT梁（0°）一般构造图 | J69: T4-5-2 | K69: =K68+O68 -> 7323 | N69: 1 | O69: 2
B70: (24) | C70: 扎村大桥（优化方案） 桥台盖梁钢筋构造图 | D70: T4-4-22-24 | E70: =E69+N69 -> 7290 | H70: (3) | I70: 8m宽25mT梁（0°）预应力钢束布置图 | J70: T4-5-3 | K70: =K69+O69 -> 7325 | N70: 2 | O70: 1
B71: (25) | C71: 扎村大桥（优化方案） 桥台垫石及挡块一般构造图 | D71: T4-4-22-25 | E71: =E70+N70 -> 7292 | H71: (4) | I71: 8m宽30mT梁（0°）上部构造标准横断面图 | J71: T4-5-4 | K71: =K70+O70 -> 7326 | N71: 1 | O71: 1
B72: (26) | C72: 扎村大桥（优化方案） 桥台垫石及挡块钢筋构造图 | D72: T4-4-22-26 | E72: =E71+N71 -> 7293 | H72: (5) | I72: 8m宽30mT梁（0°）一般构造图 | J72: T4-5-5 | K72: =K71+O71 -> 7327 | N72: 1 | O72: 2
B73: (27) | C73: 扎村大桥（优化方案） 桥台耳墙钢筋构造图 | D73: T4-4-22-27 | E73: =E72+N72 -> 7294 | H73: (6) | I73: 8m宽30mT梁（0°）预应力钢束布置图 | J73: T4-5-6 | K73: =K72+O72 -> 7329 | N73: 1 | O73: 1
B74: (28) | C74: 扎村大桥（优化方案） 桥台背墙钢筋构造图 | D74: T4-4-22-28 | E74: =E73+N73 -> 7295 | H74: (7) | I74: 8m宽30mT梁（20°）上部构造标准横断面图 | J74: T4-5-7 | K74: =K73+O73 -> 7330 | N74: 1 | O74: 1
B75: (29) | C75: 扎村大桥（优化方案） 桥台肋板钢筋构造图 | D75: T4-4-22-29 | E75: =E74+N74 -> 7296 | H75: (8) | I75: 8m宽30mT梁（20°）一般构造图 | J75: T4-5-8 | K75: =K74+O74 -> 7331 | N75: 1 | O75: 2
B76: (30) | C76: 扎村大桥（优化方案） 桥台承台钢筋构造图 | D76: T4-4-22-30 | E76: =E75+N75 -> 7297 | H76: (9) | I76: 8m宽30mT梁（20°）预应力钢束布置图 | J76: T4-5-9 | K76: =K75+O75 -> 7333 | N76: 1 | O76: 1
B77: (31) | C77: 扎村大桥（优化方案） 桥台承台系梁钢筋构造图 | D77: T4-4-22-31 | E77: =E76+N76 -> 7298 | H77: (10) | I77: 8m宽40mT梁（0°）上部构造标准横断面图 | J77: T4-5-10 | K77: =K76+O76 -> 7334 | N77: 1 | O77: 1
B81: 本 册 目 录
B83: 序号 | C83: 图表名称 | D83: 图号 | E83: 页码 | F83: 备注 | H83: 序号 | I83: 图表名称 | J83: 图号 | K83: 页码 | L83: 备注
C84: 第二十分册
C85: 第四篇 桥梁、涵洞
B86: (11) | C86: 8m宽40mT梁（0°）一般构造图 | D86: T4-5-11 | E86: =K77+O77 -> 7335 | N86: 2
B87: (12) | C87: 8m宽40mT梁（0°）预应力钢束布置图 | D87: T4-5-12 | E87: =E86+N86 -> 7337 | N87: 2
B88: (13) | C88: 8m宽40mT梁（20°）上部构造标准横断面图 | D88: T4-5-13 | E88: =E87+N87 -> 7339 | N88: 1
B89: (14) | C89: 8m宽40mT梁（20°）一般构造图 | D89: T4-5-14 | E89: =E88+N88 -> 7340 | N89: 2
B90: (15) | C90: 8m宽40mT梁（20°）预应力钢束布置图 | D90: T4-5-15 | E90: =E89+N89 -> 7342 | N90: 2
B91: (16) | C91: 桥面连续一般构造图 | D91: T4-5-16 | E91: =E90+N90 -> 7344 | N91: 1
B92: (17) | C92: 桥面铺装一般构造图 | D92: T4-5-17 | E92: =E91+N91 -> 7345 | N92: 1
B93: (18) | C93: 桥面排水布置图 | D93: T4-5-18 | E93: =E92+N92 -> 7346 | N93: 1
B94: (19) | C94: 伸缩缝一般构造图 | D94: T4-5-19 | E94: =E93+N93 -> 7347 | N94: 4
B95: (20) | C95: 防撞栏杆一般构造图 | D95: T4-5-20 | E95: =E94+N94 -> 7351 | N95: 1
B96: (21) | C96: 防落梁拉杆设计图 | D96: T4-5-21 | E96: =E95+N95 -> 7352 | N96: 2
B97: (22) | C97: 防落梁缓冲链设计图 | D97: T4-5-22 | E97: =E96+N96 -> 7354 | N97: 1
B98: (23) | C98: 挂网喷砼标准图 | D98: T4-5-23 | E98: =E97+N97 -> 7355 | N98: 2
B99: (24) | C99: 混凝土护坡设计图 | D99: T4-5-24 | E99: =E98+N98 -> 7357 | N99: 1
B100: 31 | C100: 涵洞 | D100: T4-9
B101: (1) | C101: 涵洞一览表 | D101: T4-9-1 | E101: =E99+N99 -> 7358 | N101: 14
B102: (2) | C102: 涵洞水文计算书（盖板涵） | D102: T4-9-2 | E102: =E101+N101 -> 7372 | N102: 5
B103: (3) | C103: 涵洞水文计算书（圆管涵） | D103: T4-9-3 | E103: =E102+N102 -> 7377 | N103: 3
B104: (4) | C104: 盖板涵工程数量表 | D104: T4-9-4 | E104: =E103+N103 -> 7380 | N104: 11
B105: (5) | C105: 钢波纹管涵工程数量表 | D105: T4-9-5 | E105: =E104+N104 -> 7391 | N105: 9
B106: (6) | C106: 涵洞标准图（盖板涵） | D106: T4-9-6 | E106: =E105+N105 -> 7400 | N106: 23
B107: (7) | C107: 涵洞标准图（钢波纹管涵） | D107: T4-9-7 | E107: =E106+N106 -> 7423 | N107: 4

Sheet 第五篇 隧道
B1: 本 册 目 录
B3: 序号 | C3: 图表名称 | D3: 图号 | E3: 页码 | F3: 备注 | H3: 序号 | I3: 图表名称 | J3: 图号 | K3: 页码 | L3: 备注
C4: 第二十一分册 | H4: (12) | I4: 热米2#隧道纵断面设计图 | J4: T5-3-3-2 | K4: =E37+N37 -> 7533 | O4: 3
C5: 第五篇 隧道工程 | H5: (13) | I5: 热米2#隧道平面优化设计图 | J5: T5-3-3-3 | K5: =K4+O4 -> 7536 | N5: 4 | O5: 5
B6: 1 | C6: 隧道表 | D6: T5-1 | E6: =N5+'第四篇 桥梁 (2)'!E107 -> 7427 | H6: (14) | I6: 热米2#隧道优化纵断面图 | J6: T5-3-3-4 | K6: =K5+O5 -> 7541 | N6: 6 | O6: 4
B7: 2 | C7: 隧道工程数量表 | D7: T5-2 | H7: (15) | I7: 热米2#隧道施工方案布置图 | J7: T5-3-3-5 | K7: =K6+O6 -> 7545 | O7: 2
B8: (1) | C8: 隧道路面工程数量表 | D8: T5-2-1 | E8: =E6+N6 -> 7433 | H8: (16) | I8: 扎村隧道平面设计图 | J8: T5-3-4-1 | K8: =K7+O7 -> 7547 | N8: 1 | O8: 2
B9: (2) | C9: 诺村隧道工程数量表 | D9: T5-2-2 | E9: =E8+N8 -> 7434 | H9: (17) | I9: 扎村隧道纵断面设计图 | J9: T5-3-4-2 | K9: =K8+O8 -> 7549 | N9: 4 | O9: 2
B10: (3) | C10: 热米1#隧道工程数量表 | D10: T5-2-3 | E10: =E9+N9 -> 7438 | H10: (18) | I10: 扎村隧道施工方案布置图 | J10: T5-3-4-3 | K10: =K9+O9 -> 7551 | N10: 4 | O10: 1
B11: (4) | C11: 热米2#隧道工程数量表 | D11: T5-2-4 | E11: =E10+N10 -> 7442 | H11: (19) | I11: 江中隧道平面设计图 | J11: T5-3-5-1 | K11: =K10+O10 -> 7552 | N11: 4 | O11: 1
B12: (5) | C12: 扎村隧道工程数量表 | D12: T5-2-5 | E12: =E11+N11 -> 7446 | H12: (20) | I12: 江中隧道纵断面设计图 | J12: T5-3-5-2 | K12: =K11+O11 -> 7553 | N12: 4 | O12: 1
B13: (6) | C13: 江中隧道工程数量表 | D13: T5-2-6 | E13: =E12+N12 -> 7450 | H13: (21) | I13: 江中隧道施工方案布置图 | J13: T5-3-5-3 | K13: =K12+O12 -> 7554 | N13: 4 | O13: 1
B14: (7) | C14: 单嘎1#隧道工程数量表 | D14: T5-2-7 | E14: =E13+N13 -> 7454 | H14: (22) | I14: 单嘎1#隧道平面设计图 | J14: T5-3-6-1 | K14: =K13+O13 -> 7555 | N14: 4 | O14: 2
B15: (8) | C15: 单嘎2#隧道工程数量表 | D15: T5-2-8 | E15: =E14+N14 -> 7458 | H15: (23) | I15: 单嘎1#隧道纵断面设计图 | J15: T5-3-6-2 | K15: =K14+O14 -> 7557 | N15: 4 | O15: 2
B16: (9) | C16: 下却1#隧道工程数量表 | D16: T5-2-9 | E16: =E15+N15 -> 7462 | H16: (24) | I16: 单嘎1#隧道施工方案布置图 | J16: T5-3-6-3 | K16: =K15+O15 -> 7559 | N16: 4 | O16: 1
B17: (10) | C17: 下却2#隧道工程数量表 | D17: T5-2-10 | E17: =E16+N16 -> 7466 | H17: (25) | I17: 单嘎2#隧道平面设计图 | J17: T5-3-7-1 | K17: =K16+O16 -> 7560 | N17: 4 | O17: 2
B18: (11) | C18: 仙沟1#隧道工程数量表 | D18: T5-2-11 | E18: =E17+N17 -> 7470 | H18: (26) | I18: 单嘎2#隧道纵断面设计图 | J18: T5-3-7-2 | K18: =K17+O17 -> 7562 | N18: 4 | O18: 1
B19: (12) | C19: 仙沟2#隧道工程数量表 | D19: T5-2-12 | E19: =E18+N18 -> 7474 | H19: (27) | I19: 单嘎2#隧道施工方案布置图 | J19: T5-3-7-3 | K19: =K18+O18 -> 7563 | N19: 4 | O19: 1
B20: (13) | C20: 堆米隧道工程数量表 | D20: T5-2-13 | E20: =E19+N19 -> 7478 | H20: (28) | I20: 下却1#隧道平面设计图 | J20: T5-3-8-1 | K20: =K19+O19 -> 7564 | N20: 4 | O20: 1
... B25: (18) | C25: 噶当隧道工程数量表 | D25: T5-2-18 | E25: =E24+N24 -> 7498 | H25: (33) | I25: 下却2#隧道施工方案布置图 | J25: T5-3-9-3 | K25: =K24+O24 -> 7573 | N25: 4 | O25: 2
B26: 3 | C26: 隧道总体设计图 | D26: T5-3 | H26: (34) | I26: 仙沟1#隧道平面设计图 | J26: T5-3-10-1 | K26: =K25+O25 -> 7575 | O26: 2
B27: (1) | C27: 诺村隧道平面设计图 | D27: T5-3-1-1 | E27: =E25+N25 -> 7502 | H27: (35) | I27: 仙沟1#隧道纵断面设计图 | J27: T5-3-10-2 | K27: =K26+O26 -> 7577 | N27: 2 | O27: 2
B28: (2) | C28: 诺村隧道纵断面设计图 | D28: T5-3-1-2 | E28: =E27+N27 -> 7504 | H28: (36) | I28: 仙沟1#隧道施工方案布置图 | J28: T5-3-10-3 | K28: =K27+O27 -> 7579 | N28: 2 | O28: 2
B29: (3) | C29: 诺村隧道平面优化设计图 | D29: T5-3-1-3 | E29: =E28+N28 -> 7506 | H29: (37) | I29: 仙沟2#隧道平面设计图 | J29: T5-3-11-1 | K29: =K28+O28 -> 7581 | N29: 2 | O29: 4
B30: (4) | C30: 诺村隧道优化纵断面图 | D30: T5-3-1-4 | E30: =E29+N29 -> 7508 | H30: (38) | I30: 仙沟2#隧道纵断面设计图 | J30: T5-3-11-2 | K30: =K29+O29 -> 7585 | N30: 2 | O30: 4
B31: (5) | C31: 诺村隧道施工方案布置图 | D31: T5-3-1-5 | E31: =E30+N30 -> 7510 | H31: (39) | I31: 仙沟2#隧道施工方案布置图 | J31: T5-3-11-3 | K31: =K30+O30 -> 7589 | N31: 2 | O31: 2
B32: (6) | C32: 热米1#隧道平面设计图 | D32: T5-3-2-1 | E32: =E31+N31 -> 7512 | H32: (40) | I32: 堆米隧道平面设计图 | J32: T5-3-12-1 | K32: =K31+O31 -> 7591 | N32: 3 | O32: 2
B33: (7) | C33: 热米1#隧道纵断面设计图 | D33: T5-3-2-2 | E33: =E32+N32 -> 7515 | H33: (41) | I33: 堆米隧道纵断面设计图 | J33: T5-3-12-2 | K33: =K32+O32 -> 7593 | N33: 3 | O33: 2
B34: (8) | C34: 热米1#隧道平面优化设计图 | D34: T5-3-2-3 | E34: =E33+N33 -> 7518 | H34: (42) | I34: 堆米隧道施工方案布置图 | J34: T5-3-12-3 | K34: =K33+O33 -> 7595 | N34: 6 | O34: 1
B35: (9) | C35: 热米1#隧道优化纵断面图 | D35: T5-3-2-4 | E35: =E34+N34 -> 7524 | H35: (43) | I35: 森波隧道平面设计图 | J35: T5-3-13-1 | K35: =K34+O34 -> 7596 | N35: 4 | O35: 4
B36: (10) | C36: 热米1#隧道施工方案布置图 | D36: T5-3-2-5 | E36: =E35+N35 -> 7528 | H36: (44) | I36: 森波隧道纵断面设计图 | J36: T5-3-13-2 | K36: =K35+O35 -> 7600 | N36: 2 | O36: 4
B37: (11) | C37: 热米2#隧道平面设计图 | D37: T5-3-3-1 | E37: =E36+N36 -> 7530 | H37: (45) | I37: 森波隧道施工方案布置图 | J37: T5-3-13-3 | K37: =K36+O36 -> 7604 | N37: 3 | O37: 2
B39: 本 册 目 录
B41: 序号 | C41: 图表名称 | D41: 图号 | E41: 页码 | F41: 备注 | H41: 序号 | I41: 图表名称 | J41: 图号 | K41: 页码 | L41: 备注
C42: 第二十一分册 | H42: (18) | I42: 下却2#隧道出口洞门设计图 | J42: T5-4-9-2 | K42: =E75+N75 -> 7680 | O42: 2
C43: 第五篇 隧道工程 | H43: (19) | I43: 仙沟1#隧道进口洞门设计图 | J43: T5-4-10-1 | K43: =K42+O42 -> 7682 | O43: 2
B44: (46) | C44: 龙安隧道平面设计图 | D44: T5-3-14-1 | E44: =K37+O37 -> 7606 | H44: (20) | I44: 仙沟1#隧道出口洞门设计图 | J44: T5-4-10-2 | K44: =K43+O43 -> 7684 | N44: 4 | O44: 2
B45: (47) | C45: 龙安隧道隧道纵断面设计图 | D45: T5-3-14-2 | E45: =E44+N44 -> 7610 | H45: (21) | I45: 仙沟2#隧道进口洞门设计图 | J45: T5-4-11-1 | K45: =K44+O44 -> 7686 | N45: 3 | O45: 2
B46: (48) | C46: 龙安隧道平面优化设计图 | D46: T5-3-14-3 | E46: =E45+N45 -> 7613 | H46: (22) | I46: 仙沟2#隧道出口洞门设计图 | J46: T5-4-11-2 | K46: =K45+O45 -> 7688 | N46: 5 | O46: 2
B47: (49) | C47: 龙安隧道优化纵断面图 | D47: T5-3-14-4 | E47: =E46+N46 -> 7618 | H47: (23) | I47: 堆米隧道进口洞门设计图 | J47: T5-4-12-1 | K47: =K46+O46 -> 7690 | N47: 5 | O47: 2
B48: (50) | C48: 龙安隧道隧道施工方案布置图 | D48: T5-3-14-5 | E48: =E47+N47 -> 7623 | H48: (24) | I48: 堆米隧道出口洞门设计图 | J48: T5-4-12-2 | K48: =K47+O47 -> 7692 | N48: 2 | O48: 2
B49: (51) | C49: 雪巴隧道平面设计图 | D49: T5-3-15-1 | E49: =E48+N48 -> 7625 | H49: (25) | I49: 森波隧道进口洞门设计图 | J49: T5-4-13-1 | K49: =K48+O48 -> 7694 | N49: 5 | O49: 2
B50: (52) | C50: 雪巴隧道纵断面设计图 | D50: T5-3-15-2 | E50: =E49+N49 -> 7630 | H50: (26) | I50: 森波隧道出口洞门设计图 | J50: T5-4-13-2 | K50: =K49+O49 -> 7696 | N50: 5 | O50: 2
B51: (53) | C51: 雪巴隧道施工方案布置图 | D51: T5-3-15-3 | E51: =E50+N50 -> 7635 | H51: (27) | I51: 龙安隧道进口洞门设计图 | J51: T5-4-14-1 | K51: =K50+O50 -> 7698 | N51: 2 | O51: 2
B52: (54) | C52: 北沟隧道平面设计图 | D52: T5-3-16-1 | E52: =E51+N51 -> 7637 | H52: (28) | I52: 龙安隧道出口洞门设计图 | J52: T5-4-14-2 | K52: =K51+O51 -> 7700 | N52: 2 | O52: 2
B53: (55) | C53: 北沟隧道纵断面设计图 | D53: T5-3-16-2 | E53: =E52+N52 -> 7639 | H53: (29) | I53: 雪巴隧道进口洞门设计图 | J53: T5-4-15-1 | K53: =K52+O52 -> 7702 | N53: 1 | O53: 2
B54: (56) | C54: 北沟隧道施工方案布置图 | D54: T5-3-16-3 | E54: =E53+N53 -> 7640 | H54: (30) | I54: 雪巴隧道出口洞门设计图 | J54: T5-4-15-2 | K54: =K53+O53 -> 7704 | N54: 1 | O54: 2
B55: (57) | C55: 噶当隧道平面设计图 | D55: T5-3-17-1 | E55: =E54+N54 -> 7641 | H55: (31) | I55: 北沟隧道进口洞门设计图 | J55: T5-4-16-1 | K55: =K54+O54 -> 7706 | N55: 2 | O55: 2
B56: (58) | C56: 噶当隧道纵断面设计图 | D56: T5-3-17-2 | E56: =E55+N55 -> 7643 | H56: (32) | I56: 北沟隧道出口洞门设计图 | J56: T5-4-16-2 | K56: =K55+O55 -> 7708 | N56: 2 | O56: 2
B57: (59) | C57: 噶当隧道施工方案布置图 | D57: T5-3-17-3 | E57: =E56+N56 -> 7645 | H57: (33) | I57: 噶当隧道进口洞门设计图 | J57: T5-4-17-1 | K57: =K56+O56 -> 7710 | N57: 1 | O57: 2
B58: 4 | C58: 隧道洞门设计图 | D58: T5-4 | H58: (34) | I58: 噶当隧道出口洞门设计图 | J58: T5-4-17-2 | K58: =K57+O57 -> 7712 | O58: 2
B59: (1) | C59: 诺村隧道进口洞门设计图 | D59: T5-4-1-1 | E59: =E57+N57 -> 7646 | H59: 5 | I59: 隧道通用图 | J59: T5-5 | N59: 2
B60: (2) | C60: 诺村隧道出口洞门设计图 | D60: T5-4-1-2 | E60: =E59+N59 -> 7648 | H60: (1) | I60: 隧道建筑限界及内轮廓设计图 | J60: T5-5-1 | K60: =K58+O58 -> 7714 | N60: 2 | O60: 2
B61: (3) | C61: 热米1#隧道进口洞门设计图 | D61: T5-4-2-1 | E61: =E60+N60 -> 7650 | H61: (2) | I61: 隧道衬砌支护参数设计图 | J61: T5-5-2 | K61: =K60+O60 -> 7716 | N61: 2 | O61: 14
B62: (4) | C62: 热米1#隧道出口洞门设计图 | D62: T5-4-2-2 | E62: =E61+N61 -> 7652 | H62: (3) | I62: 隧道防排水设计图 | J62: T5-5-3 | K62: =K61+O61 -> 7730 | N62: 2 | O62: 4
B63: (5) | C63: 热米2#隧道进口洞门设计图 | D63: T5-4-3-1 | E63: =E62+N62 -> 7654 | H63: (4) | I63: 隧道超前支护参数设计图 | J63: T5-5-4 | K63: =K62+O62 -> 7734 | N63: 2 | O63: 8
B64: (6) | C64: 热米2#隧道出口洞门设计图 | D64: T5-4-3-2 | E64: =E63+N63 -> 7656 | H64: (5) | I64: 隧道开挖方法设计图 | J64: T5-5-5 | K64: =K63+O63 -> 7742 | N64: 2 | O64: 7
B65: (7) | C65: 扎村隧道进口洞门设计图 | D65: T5-4-4-1 | E65: =E64+N64 -> 7658 | H65: (6) | I65: 隧道不良地质段处治设计图 | J65: T5-5-6 | K65: =K64+O64 -> 7749 | N65: 2 | O65: 3
B66: (8) | C66: 扎村隧道出口洞门设计图 | D66: T5-4-4-2 | E66: =E65+N65 -> 7660 | H66: (7) | I66: 隧道监控量测方案设计图 | J66: T5-5-7 | K66: =K65+O65 -> 7752 | N66: 2 | O66: 6
B67: (9) | C67: 江中隧道进口洞门设计图 | D67: T5-4-5-1 | E67: =E66+N66 -> 7662 | H67: (8) | I67: 隧道超前地质预报方案设计图 | J67: T5-5-8 | K67: =K66+O66 -> 7758 | N67: 2 | O67: 2
B68: (10) | C68: 江中隧道出口洞门设计图 | D68: T5-4-5-2 | E68: =E67+N67 -> 7664 | H68: (9) | I68: 隧道路面结构层设计图 | J68: T5-5-9 | K68: =K67+O67 -> 7760 | N68: 2 | O68: 2
B69: (11) | C69: 单嘎1#隧道进口洞门设计图 | D69: T5-4-6-1 | E69: =E68+N68 -> 7666 | H69: (10) | I69: 隧道洞内保温防冻设计图 | J69: T5-5-10 | K69: =K68+O68 -> 7762 | N69: 2 | O69: 1
B70: (12) | C70: 单嘎1#隧道出口洞门设计图 | D70: T5-4-6-2 | E70: =E69+N69 -> 7668 | H70: (11) | I70: 隧道意外事故逃生设施设计图 | J70: T5-5-11 | K70: =K69+O69 -> 7763 | N70: 2 | O70: 1
B71: (13) | C71: 单嘎2#隧道进口洞门设计图 | D71: T5-4-7-1 | E71: =E70+N70 -> 7670 | N71: 2
B72: (14) | C72: 单嘎2#隧道出口洞门设计图 | D72: T5-4-7-2 | E72: =E71+N71 -> 7672 | N72: 2
B73: (15) | C73: 下却1#隧道进口洞门设计图 | D73: T5-4-8-1 | E73: =E72+N72 -> 7674 | N73: 2
B74: (16) | C74: 下却1#隧道出口洞门设计图 | D74: T5-4-8-2 | E74: =E73+N73 -> 7676 | N74: 2
B75: (17) | C75: 下却2#隧道进口洞门设计图 | D75: T5-4-9-1 | E75: =E74+N74 -> 7678 | N75: 2

Sheet 第五篇 隧道 (2)
B1: 本 册 目 录
B3: 序号 | C3: 图表名称 | D3: 图号 | E3: 页码 | F3: 备注 | H3: 序号 | I3: 图表名称 | J3: 图号 | K3: 页码 | L3: 备注
C4: 第二十二分册
C5: 第五篇 隧道工程
B6: (1) | C6: 隧道机电工程数量表 | D6: T5-6 | N6: 1
B7: (2) | C7: 诺村隧道附属设施一览表 | D7: T5-6-1 | E7: =N6+'第五篇 隧道'!K70 -> 7764 | N7: 3
B8: (3) | C8: 热米1#隧道附属设施一览表 | D8: T5-6-2 | E8: =E7+N7 -> 7767 | N8: 8
B9: (4) | C9: 热米2#隧道附属设施一览表 | D9: T5-6-3 | E9: =E8+N8 -> 7775 | N9: 8
B10: (5) | C10: 扎村隧道附属设施一览表 | D10: T5-6-4 | E10: =E9+N9 -> 7783 | N10: 8
B11: (6) | C11: 江中隧道附属设施一览表 | D11: T5-6-5 | E11: =E10+N10 -> 7791 | N11: 3
B12: (7) | C12: 单嘎1#隧道附属设施一览表 | D12: T5-6-6 | E12: =E11+N11 -> 7794 | N12: 3
B13: (8) | C13: 单嘎2#隧道附属设施一览表 | D13: T5-6-7 | E13: =E12+N12 -> 7797 | N13: 3
B14: (9) | C14: 下却1#隧道附属设施一览表 | D14: T5-6-8 | E14: =E13+N13 -> 7800 | N14: 3
B15: (10) | C15: 下却2#隧道附属设施一览表 | D15: T5-6-9 | E15: =E14+N14 -> 7803 | N15: 8
B16: (11) | C16: 仙沟1#隧道附属设施一览表 | D16: T5-6-10 | E16: =E15+N15 -> 7811 | N16: 6
B17: (12) | C17: 仙沟2#隧道附属设施一览表 | D17: T5-6-11 | E17: =E16+N16 -> 7817 | N17: 8
B18: (13) | C18: 堆米隧道附属设施一览表 | D18: T5-6-12 | E18: =E17+N17 -> 7825 | N18: 3
B19: (14) | C19: 森波隧道附属设施一览表 | D19: T5-6-13 | E19: =E18+N18 -> 7828 | N19: 8
... B26: (21) | C26: 扎绕保通点附属设施一览表 | D26: T5-6-20 | E26: =E25+N25 -> 7860 | N26: 1
B27: 7 | C27: 隧道机电工程通用图 | D27: T5-7
B28: (1) | C28: 隧道监控设计图 | D28: T5-7-JK | E28: =E26+N26 -> 7861 | N28: 34
B29: (2) | C29: 隧道火灾报警设计图 | D29: T5-7-BJ | E29: =E28+N28 -> 7895 | N29: 10
B30: (3) | C30: 隧道通风设计图 | D30: T5-7-TF | E30: =E29+N29 -> 7905 | N30: 11
B31: (4) | C31: 隧道照明设计图 | D31: T5-7-ZM | E31: =E30+N30 -> 7916 | N31: 39
B32: (5) | C32: 隧道消防设计图 | D32: T5-7-XF | E32: =E31+N31 -> 7955 | N32: 4
B33: (6) | C33: 隧道供配电设计图 | D33: T5-7-GD | E33: =E32+N32 -> 7959 | N33: 45
B34: (7) | C34: 隧道变电所结构设计图 | D34: T5-7-PJ | E34: =E33+N33 -> 8004 | N34: 8

Sheet 其它
B1: 本 册 目 录
B3: 序号 | C3: 图表名称 | D3: 图号 | E3: 页码 | F3: 备注 | H3: 序号 | I3: 图表名称 | J3: 图号 | K3: 页码 | L3: 备注
C4: 第二十三分册 | H4: (22) | I4: 设备房1-1剖面图 | J4: T7-2-2-22 | K4: =E37+N37 -> 8051 | O4: 1
C5: 第六篇 路线交叉 | H5: (23) | I5: 设备房A-B轴立面图、B-A轴立面图 | J5: T7-2-2-23 | K5: =K4+O4 -> 8052 | O5: 1
B6: 1 | C6: 平面交叉设置及工程数量一览表 | D6: T6-1 | E6: ='第五篇 隧道 (2)'!E34+'第五篇 隧道 (2)'!N34 -> 8012 | H6: (24) | I6: 工程做法表门窗表 | J6: T7-2-2-24 | K6: =K5+O5 -> 8053 | N6: 7 | O6: 1
B7: 2 | C7: 平面交叉布置图 | D7: T6-2 | E7: =E6+N6 -> 8019 | H7: 3 | I7: 保通点结构设计图纸 | J7: T7-2-3 | N7: 6
C8: 第七篇 交通工程及沿线设施 | H8: (1) | I8: 洞嘎、卧龙保通点食堂基础平面布置图 | J8: T7-2-3-01 | K8: =K6+O6 -> 8054 | O8: 1
C9: 保通点设计图纸 | D9: T7-2 | H9: (2) | I9: 洞嘎、卧龙保通点食堂柱配筋图 | J9: T7-2-3-02 | K9: =K8+O8 -> 8055 | O9: 1
B10: 1 | C10: 保通点总平面图 | D10: T7-2-1 | H10: (3) | I10: 洞嘎、卧龙保通点食堂一层板平面配筋图 | J10: T7-2-3-03 | K10: =K9+O9 -> 8056 | O10: 1
B11: (1) | C11: 洞嘎保通点总平面图 | D11: T7-2-1-01 | E11: =E7+N7 -> 8025 | H11: (4) | I11: 洞嘎、卧龙保通点食堂屋面板平面配筋图 | J11: T7-2-3-04 | K11: =K10+O10 -> 8057 | N11: 1 | O11: 1
B12: (2) | C12: 洞嘎保通点区域位置图 | D12: T7-2-1-02 | E12: =E11+N11 -> 8026 | H12: (5) | I12: 洞嘎、卧龙保通点食堂一层梁平法配筋图 | J12: T7-2-3-05 | K12: =K11+O11 -> 8058 | N12: 1 | O12: 1
B13: (3) | C13: 卧龙保通点总平面图 | D13: T7-2-1-03 | E13: =E12+N12 -> 8027 | H13: (6) | I13: 洞嘎、卧龙保通点食堂屋面梁平法配筋图 | J13: T7-2-3-06 | K13: =K12+O12 -> 8059 | N13: 1 | O13: 1
B14: (4) | C14: 卧龙保通点区域位置图 | D14: T7-2-1-04 | E14: =E13+N13 -> 8028 | H14: (7) | I14: 洞嘎、卧龙保通点值班及监控室基础平面布置图 | J14: T7-2-3-07 | K14: =K13+O13 -> 8060 | N14: 1 | O14: 1
B15: (5) | C15: 扎绕保通点总平面图 | D15: T7-2-1-05 | E15: =E14+N14 -> 8029 | H15: (8) | I15: 洞嘎、卧龙保通点值班及监控室柱配筋图 | J15: T7-2-3-08 | K15: =K14+O14 -> 8061 | N15: 1 | O15: 1
B16: 2 | C16: 保通点建筑设计图 | D16: T7-2-2 | H16: (9) | I16: 洞嘎、卧龙保通点值班及监控室一层板平面配筋图 | J16: T7-2-3-09 | K16: =K15+O15 -> 8062 | O16: 1
B17: (1) | C17: 车库及养护设备存放间一层平面图 | D17: T7-2-2-01 | E17: =E15+N15 -> 8030 | H17: (10) | I17: 洞嘎、卧龙保通点值班及监控室屋面板平面配筋图 | J17: T7-2-3-10 | K17: =K16+O16 -> 8063 | N17: 1 | O17: 1
B18: (2) | C18: 车库及养护设备存放间屋顶平面图 | D18: T7-2-2-02 | E18: =E17+N17 -> 8031 | H18: (11) | I18: 洞嘎、卧龙保通点值班及监控室一层梁平法配筋图 | J18: T7-2-3-11 | K18: =K17+O17 -> 8064 | N18: 1 | O18: 1
B19: (3) | C19: 车库及养护设备存放间1-1剖面图 | D19: T7-2-2-03 | E19: =E18+N18 -> 8032 | H19: (12) | I19: 洞嘎、卧龙保通点值班及监控室屋面梁平法配筋图 | J19: T7-2-3-12 | K19: =K18+O18 -> 8065 | N19: 1 | O19: 1
B20: (4) | C20: 车库及养护设备存放间1-6轴、6-1轴立面图 | D20: T7-2-2-04 | E20: =E19+N19 -> 8033 | H20: (13) | I20: 洞嘎、卧龙保通点职工公寓基础平面布置图 | J20: T7-2-3-13 | K20: =K19+O19 -> 8066 | N20: 1 | O20: 1
B21: (5) | C21: 车库及养护设备存放间A-B轴、B-A轴立面图 | D21: T7-2-2-05 | E21: =E20+N20 -> 8034 | H21: (14) | I21: 洞嘎、卧龙保通点职工公寓柱配筋图 | J21: T7-2-3-14 | K21: =K20+O20 -> 8067 | N21: 1 | O21: 1
B22: (6) | C22: 职工公寓一层平面图 | D22: T7-2-2-06 | E22: =E21+N21 -> 8035 | H22: (15) | I22: 洞嘎、卧龙保通点职工公寓一层板平面配筋图 | J22: T7-2-3-15 | K22: =K21+O21 -> 8068 | N22: 1 | O22: 1
B23: (7) | C23: 职工公寓二层平面图 | D23: T7-2-2-07 | E23: =E22+N22 -> 8036 | H23: (16) | I23: 洞嘎、卧龙保通点职工公寓二层板平面配筋图 | J23: T7-2-3-16 | K23: =K22+O22 -> 8069 | N23: 1 | O23: 1
B24: (8) | C24: 职工公寓屋顶平面图 | D24: T7-2-2-08 | E24: =E23+N23 -> 8037 | H24: (17) | I24: 洞嘎、卧龙保通点职工公寓屋面板平面配筋图 | J24: T7-2-3-17 | K24: =K23+O23 -> 8070 | N24: 1 | O24: 1
B25: (9) | C25: 职工公寓1-4轴立面图 | D25: T7-2-2-09 | E25: =E24+N24 -> 8038 | H25: (18) | I25: 洞嘎、卧龙保通点职工公寓一层梁平法配筋图 | J25: T7-2-3-18 | K25: =K24+O24 -> 8071 | N25: 1 | O25: 1
B26: (10) | C26: 职工公寓1-4轴剖面图 | D26: T7-2-2-10 | E26: =E25+N25 -> 8039 | H26: (19) | I26: 洞嘎、卧龙保通点职工公寓二层梁平法配筋图 | J26: T7-2-3-19 | K26: =K25+O25 -> 8072 | N26: 1 | O26: 1
B27: (11) | C27: 职工公寓A-T轴、T-A轴立面图 | D27: T7-2-2-11 | E27: =E26+N26 -> 8040 | H27: (20) | I27: 洞嘎、卧龙保通点职工公寓屋面梁平法配筋图 | J27: T7-2-3-20 | K27: =K26+O26 -> 8073 | N27: 1 | O27: 1
B28: (12) | C28: 食堂一层平面图、屋顶平面图 | D28: T7-2-2-12 | E28: =E27+N27 -> 8041 | H28: (21) | I28: 洞嘎、卧龙保通点车库基础平面布置图 | J28: T7-2-3-21 | K28: =K27+O27 -> 8074 | N28: 1 | O28: 1
B29: (13) | C29: 食堂1-3轴、3-1轴立面图 | D29: T7-2-2-13 | E29: =E28+N28 -> 8042 | H29: (22) | I29: 洞嘎、卧龙保通点车库基顶~屋面层柱平法施工图 | J29: T7-2-3-22 | K29: =K28+O28 -> 8075 | N29: 1 | O29: 1
... B37: (21) | C37: 设备房1-8轴立面图、8-1轴立面图 | D37: T7-2-2-21 | E37: =E36+N36 -> 8050 | H37: (30) | I37: 洞嘎、卧龙保通点设备房屋面梁平法施工图 | J37: T7-2-3-30 | K37: =K36+O36 -> 8083 | N37: 1 | O37: 1
B39: 本 册 目 录
B41: 序号 | C41: 图表名称 | D41: 图号 | E41: 页码 | F41: 备注 | H41: 序号 | I41: 图表名称 | J41: 图号 | K41: 页码 | L41: 备注
C42: 第二十三分册 | H42: (2) | I42: 接地总平图 | J42: T7-2-4-02 | K42: =E75+N75 -> 8115 | O42: 1
C43: 第七篇 交通工程及沿线设施 | H43: (3) | I43: 室外灯具、监控点位总平图 | J43: T7-2-4-03 | K43: =K42+O42 -> 8116 | O43: 1
B44: (31) | C44: 扎绕保通点食堂基础平面布置图 | D44: T7-2-3-31 | E44: =K37+O37 -> 8084 | H44: (4) | I44: 室外灯具、监控大样图、材料表 | J44: T7-2-4-04 | K44: =K43+O43 -> 8117 | N44: 1 | O44: 1
B45: (32) | C45: 扎绕保通点食堂柱配筋图 | D45: T7-2-3-32 | E45: =E44+N44 -> 8085 | H45: (5) | I45: 计算书、竖向图 | J45: T7-2-4-05 | K45: =K44+O44 -> 8118 | N45: 1 | O45: 1
B46: (33) | C46: 扎绕保通点食堂一层板平面配筋图 | D46: T7-2-3-33 | E46: =E45+N45 -> 8086 | H46: (6) | I46: 箱变系统图 1 | J46: T7-2-4-06 | K46: =K45+O45 -> 8119 | N46: 1 | O46: 1
B47: (34) | C47: 扎绕保通点食堂屋面板平面配筋图 | D47: T7-2-3-34 | E47: =E46+N46 -> 8087 | H47: (7) | I47: 箱变系统图 2 | J47: T7-2-4-07 | K47: =K46+O46 -> 8120 | N47: 1 | O47: 1
B48: (35) | C48: 扎绕保通点食堂一层梁平法配筋图 | D48: T7-2-3-35 | E48: =E47+N47 -> 8088 | H48: (8) | I48: 车库配电箱系统图 | J48: T7-2-4-08 | K48: =K47+O47 -> 8121 | N48: 1 | O48: 1
B49: (36) | C49: 扎绕保通点食堂屋面梁平法配筋图 | D49: T7-2-3-36 | E49: =E48+N48 -> 8089 | H49: (9) | I49: 车库电气平面图 | J49: T7-2-4-09 | K49: =K48+O48 -> 8122 | N49: 1 | O49: 1
B50: (37) | C50: 扎绕保通点值班及监控室基础平面布置图 | D50: T7-2-3-37 | E50: =E49+N49 -> 8090 | H50: (10) | I50: 车库接地平面图 | J50: T7-2-4-10 | K50: =K49+O49 -> 8123 | N50: 1 | O50: 1
B51: (38) | C51: 扎绕保通点值班及监控室柱配筋图 | D51: T7-2-3-38 | E51: =E50+N50 -> 8091 | H51: (11) | I51: 车库防雷平面图 | J51: T7-2-4-11 | K51: =K50+O50 -> 8124 | N51: 1 | O51: 1
B52: (39) | C52: 扎绕保通点值班及监控室一层板平面配筋图 | D52: T7-2-3-39 | E52: =E51+N51 -> 8092 | H52: (12) | I52: 车库电气材料表 1 | J52: T7-2-4-12 | K52: =K51+O51 -> 8125 | N52: 1 | O52: 1
B53: (40) | C53: 扎绕保通点值班及监控室屋面板平面配筋图 | D53: T7-2-3-40 | E53: =E52+N52 -> 8093 | H53: (13) | I53: 车库电气材料表 2 | J53: T7-2-4-13 | K53: =K52+O52 -> 8126 | N53: 1 | O53: 1
B54: (41) | C54: 扎绕保通点值班及监控室一层梁平法配筋图 | D54: T7-2-3-41 | E54: =E53+N53 -> 8094 | H54: (14) | I54: 柴发系统图 | J54: T7-2-4-14 | K54: =K53+O53 -> 8127 | N54: 1 | O54: 1
B55: (42) | C55: 扎绕保通点值班及监控室屋面梁平法配筋图 | D55: T7-2-3-42 | E55: =E54+N54 -> 8095 | H55: (15) | I55: 消防泵配电箱系统图 | J55: T7-2-4-15 | K55: =K54+O54 -> 8128 | N55: 1 | O55: 1
B56: (43) | C56: 扎绕保通点职工公寓基础平面布置图 | D56: T7-2-3-43 | E56: =E55+N55 -> 8096 | H56: (16) | I56: 设备房配电箱系统图 1 | J56: T7-2-4-16 | K56: =K55+O55 -> 8129 | N56: 1 | O56: 1
... B73: (60) | C73: 扎绕保通点设备房屋面梁平法施工图 | D73: T7-2-3-60 | E73: =E72+N72 -> 8113 | H73: (33) | I73: 值班室、监控室监控系统图、大样图 | J73: T7-2-4-33 | K73: =K72+O72 -> 8146 | N73: 1 | O73: 1
B74: 4 | C74: 保通点电气设计图 | D74: T7-2-4 | H74: (34) | I74: 值班室、监控室弱电系统图 | J74: T7-2-4-34 | K74: =K73+O73 -> 8147 | O74: 1
B75: (1) | C75: 电气总平图 | D75: T7-2-4-01 | E75: =E73+N73 -> 8114 | H75: (35) | I75: 值班室、监控室电气平面图 | J75: T7-2-4-35 | K75: =K74+O74 -> 8148 | N75: 1 | O75: 1
B77: 本 册 目 录
B79: 序号 | C79: 图表名称 | D79: 图号 | E79: 页码 | F79: 备注 | H79: 序号 | I79: 图表名称 | J79: 图号 | K79: 页码 | L79: 备注
C80: 第二十三分册 | H80: 6 | I80: 保通点暖通设计图 | J80: T7-2-6
C81: 第七篇 交通工程及沿线设施 | H81: (1) | I81: 主要设备 | J81: T7-2-6-01 | K81: =E116+N116 -> 8183 | O81: 1
B82: (39) | C82: 值班室/监控室接地平面图 | D82: T7-2-4-39 | E82: =K75+O75 -> 8149 | H82: (2) | I82: 食堂一层通风、空调及采暖平面图 | J82: T7-2-6-02 | K82: =K81+O81 -> 8184 | N82: 1 | O82: 1
B83: (40) | C83: 值班室/监控室防雷平面图 | D83: T7-2-4-40 | E83: =E82+N82 -> 8150 | H83: (3) | I83: 值班室与监控设备室一层通风、空调及采暖平面图 | J83: T7-2-6-03 | K83: =K82+O82 -> 8185 | N83: 1 | O83: 1
B84: (41) | C84: 值班室、监控室电气材料表 1 | D84: T7-2-4-41 | E84: =E83+N83 -> 8151 | H84: (4) | I84: 泵房、水池及柴油发电机房一层通风、空调及采暖平面图 | J84: T7-2-6-04 | K84: =K83+O83 -> 8186 | N84: 1 | O84: 1
B85: (39) | C85: 值班室、监控室电气材料表 2 | D85: T7-2-4-39 | E85: =E84+N84 -> 8152 | H85: (5) | I85: 职工公寓一层通风、空调及采暖平面图 | J85: T7-2-6-05 | K85: =K84+O84 -> 8187 | N85: 1 | O85: 1
B86: (40) | C86: 职工公寓配电箱系统图 1 | D86: T7-2-4-40 | E86: =E85+N85 -> 8153 | H86: (6) | I86: 职工公寓二层通风、空调及采暖平面图 | J86: T7-2-6-06 | K86: =K85+O85 -> 8188 | N86: 1 | O86: 1
B87: (41) | C87: 职工公寓配电箱系统图 2 | D87: T7-2-4-41 | E87: =E86+N86 -> 8154 | H87: (7) | I87: 保通点 | J87: T7-3 | K87: =K86+O86 -> 8189 | N87: 1 | O87: 3
B88: (42) | C88: 职工公寓一层插座平面图 | D88: T7-2-4-42 | E88: =E87+N87 -> 8155 | H88: (8) | I88: 停车区 | J88: T7-4 | K88: =K87+O87 -> 8192 | N88: 1 | O88: 5
B89: (43) | C89: 职工公寓二层插座平面图 | D89: T7-2-4-43 | E89: =E88+N88 -> 8156 | H89: (9) | I89: 观景平台 | J89: T7-5 | K89: =K88+O88 -> 8197 | N89: 1 | O89: 4
B90: (44) | C90: 职工公寓一层照明平面图 | D90: T7-2-4-44 | E90: =E89+N89 -> 8157 | I90: 第八篇 环境保护及景观设计 | N90: 1
B91: (45) | C91: 职工公寓二层照明平面图 | D91: T7-2-4-45 | E91: =E90+N90 -> 8158 | H91: 1 | I91: 绿化工程植物配置表 | J91: T8-1 | K91: =K89+O89 -> 8201 | N91: 1 | O91: 1
B92: (46) | C92: 职工公寓一层弱电平面图 | D92: T7-2-4-46 | E92: =E91+N91 -> 8159 | H92: 2 | I92: 水土保持工程数量表 | J92: T8-2 | K92: =K91+O91 -> 8202 | N92: 1 | O92: 5
B93: (47) | C93: 职工公寓二层弱电平面图 | D93: T7-2-4-47 | E93: =E92+N92 -> 8160 | H93: 3 | I93: 水土保持设计图 | J93: T8-3 | K93: =K92+O92 -> 8207 | N93: 1 | O93: 3
B94: (48) | C94: 职工公寓接地平面图 | D94: T7-2-4-48 | E94: =E93+N93 -> 8161 | H94: 4 | I94: 路基边坡及路侧绿化景观工程数量表 | J94: T8-4 | K94: =K93+O93 -> 8210 | N94: 1 | O94: 50
B95: (49) | C95: 职工公寓防雷平面图 | D95: T7-2-4-49 | E95: =E94+N94 -> 8162 | H95: 5 | I95: 路基边坡绿化景观图 | J95: T8-5 | K95: =K94+O94 -> 8260 | N95: 1 | O95: 5
B96: (50) | C96: 职工公寓电气材料表 1 | D96: T7-2-4-50 | E96: =E95+N95 -> 8163 | H96: 6 | I96: 保通点绿化工程数量表 | J96: T8-6 | K96: =K95+O95 -> 8265 | N96: 1 | O96: 1
B97: (51) | C97: 职工公寓电气材料表 2 | D97: T7-2-4-51 | E97: =E96+N96 -> 8164 | H97: 7 | I97: 保通点绿化布置图 | J97: T8-7 | K97: =K96+O96 -> 8266 | N97: 1 | O97: 3
B98: 5 | C98: 保通点给排水设计图 | D98: T7-2-5 | H98: 8 | I98: 巨柏保护措施工程数量表 | J98: T8-8 | K98: =K97+O97 -> 8269 | O98: 2
B99: (1) | C99: 图 例 | D99: T7-2-5-01 | E99: =E97+N97 -> 8165 | H99: 9 | I99: 巨柏保护措施示意图 | J99: T8-9 | K99: =K98+O98 -> 8271 | N99: 1 | O99: 1
B100: (2) | C100: 主要设备及参数表 | D100: T7-2-5-02 | E100: =E99+N99 -> 8166 | H100: 10 | I100: 巨柏移栽工程数量统计表 | J100: T8-10 | K100: =K99+O99 -> 8272 | N100: 1 | O100: 3
B101: (3) | C101: 卧龙保通点室外给排水及消防总图 | D101: T7-2-5-03 | E101: =E100+N100 -> 8167 | I101: 第九篇 其他工程 | N101: 1
B102: (4) | C102: 洞嘎保通点室外给排水及消防总图 | D102: T7-2-5-04 | E102: =E101+N101 -> 8168 | H102: 1 | I102: 道路改路改沟工程数量表 | J102: T9-1 | K102: =K100+O100 -> 8275 | N102: 1 | O102: 2
B103: (5) | C103: 扎绕保通点室外给排水及消防总图 | D103: T7-2-5-05 | E103: =E102+N102 -> 8169 | H103: 2 | I103: 道路改沟设计图 | J103: T9-2 | K103: =K102+O102 -> 8277 | N103: 1 | O103: 4
B104: (6) | C104: 室外给排水及消防总图说明 | D104: T7-2-5-06 | E104: =E103+N103 -> 8170 | I104: 第十篇 筑路材料 | N104: 1
B105: (7) | C105: 车库一层给排水平面图 | D105: T7-2-5-07 | E105: =E104+N104 -> 8171 | H105: 1 | I105: 沿线筑路材料料场表 | J105: T10-1 | K105: =K103+O103 -> 8281 | N105: 1 | O105: 1
B106: (8) | C106: 车库屋顶层给排水平面图 | D106: T7-2-5-08 | E106: =E105+N105 -> 8172 | H106: 2 | I106: 材料试验资料表 | J106: T10-2 | N106: 1 | O106: 0
B107: (9) | C107: 食堂给排水平面图 | D107: T7-2-5-09 | E107: =E106+N106 -> 8173 | H107: 3 | I107: 沿线筑路材料供应示意图 | J107: T10-3 | K107: =K105+O105 -> 8282 | N107: 1 | O107: 1
B108: (10) | C108: 值班室给排水平面图 | D108: T7-2-5-10 | E108: =E107+N107 -> 8174 | I108: 第十一篇 施工方案 | N108: 1
B109: (11) | C109: 设备房一层给排水平面图 | D109: T7-2-5-11 | E109: =E108+N108 -> 8175 | H109: 1 | I109: 工程概略进度图 | J109: T11-1 | K109: =K107+O107 -> 8283 | N109: 1 | O109: 2
B110: (12) | C110: 设备房屋顶层给排水平面图 | D110: T7-2-5-12 | E110: =E109+N109 -> 8176 | H110: 2 | I110: 施工便道主要工程数量表 | J110: T11-2 | K110: =K109+O109 -> 8285 | N110: 1 | O110: 3
B111: (13) | C111: 公寓一层给排水平面图 | D111: T7-2-5-13 | E111: =E110+N110 -> 8177 | H111: 3 | I111: 其他临时工程一览表 | J111: T11-3 | K111: =K110+O110 -> 8288 | N111: 1 | O111: 2
B112: (14) | C112: 公寓二层给排水平面图 | D112: T7-2-5-14 | E112: =E111+N111 -> 8178 | H112: 4 | I112: 施工期保护措施工程数量表 | J112: T11-4 | K112: =K111+O111 -> 8290 | N112: 1 | O112: 4
B113: (15) | C113: 公寓屋面层给排水平面图 | D113: T7-2-5-15 | E113: =E112+N112 -> 8179 | H113: 5 | I113: 公路临时用地表 | J113: T11-5 | K113: =K112+O112 -> 8294 | N113: 1 | O113: 4
B114: (16) | C114: 消防泵房系统原理图 | D114: T7-2-5-16 | E114: =E113+N113 -> 8180 | H114: 6 | I114: 工字钢防护设计图 | J114: T11-6 | K114: =K113+O113 -> 8298 | N114: 1 | O114: 1
B115: (17) | C115: 给水及消火栓系统原理图 | D115: T7-2-5-17 | E115: =E114+N114 -> 8181 | H115: 7 | I115: 落石槽、拦石堆设计图 | J115: T11-7 | K115: =K114+O114 -> 8299 | N115: 1 | O115: 1
B116: (18) | C116: 公寓生活给水系统原理图 | D116: T7-2-5-18 | E116: =E115+N115 -> 8182 | H116: 8 | I116: 拦石墙设置被动防护网 | J116: T11-8 | K116: =K115+O115 -> 8300 | N116: 1 | O116: 1
